BEGIN:VCALENDAR
VERSION:2.0
PRODID:-//ChamberMaster//Event Calendar 2.0//EN
METHOD:PUBLISH
X-PUBLISHED-TTL:P3D
REFRESH-INTERVAL:P3D
CALSCALE:GREGORIAN
BEGIN:VEVENT
DTSTART:20240320T163000Z
DTEND:20240320T180000Z
X-MICROSOFT-CDO-ALLDAYEVENT:FALSE
SUMMARY:Food For Thought with Galbreaith Pickard
DESCRIPTION:Enjoy a FREE Meal and learn how you can ease the emotional and financial burden on your family by preplanning your funeral.
X-ALT-DESC;FMTTYPE=text/html:<span style="background-color:rgb(255\, 255\, 255)\; color:rgb(5\, 5\, 5)\; font-family:segoe ui historic\,segoe ui\,helvetica\,arial\,sans-serif\; font-size:15px">Enjoy a FREE Meal and learn how you can ease the emotional and financial burden on your family by preplanning your funeral.</span>
LOCATION:Los Vaqueros 4899 E I-20 Frontage Rd Willow Park\, Texas 76087
UID:e.2477.19232
SEQUENCE:3
DTSTAMP:20260424T083006Z
URL:http://business.parkercountychamber.com/events/details/food-for-thought-with-galbreaith-pickard-03-20-2024-19232
END:VEVENT

END:VCALENDAR
