BEGIN:VCALENDAR
VERSION:2.0
PRODID:-//ChamberMaster//Event Calendar 2.0//EN
METHOD:PUBLISH
X-PUBLISHED-TTL:P3D
REFRESH-INTERVAL:P3D
CALSCALE:GREGORIAN
BEGIN:VEVENT
DTSTART:20250219T173000Z
DTEND:20250219T193000Z
X-MICROSOFT-CDO-ALLDAYEVENT:FALSE
SUMMARY:Food For Thought with Galbreaith Pickard
DESCRIPTION:Join us at Los Vaqueros to enjoy a COMPLIMENTARY MEAL and learn how you can ease the emotional and financial burden on your family by preplanning your funeral.\n\n\n\nSeating is limited to the first 25 people who RSVP\, so please call our automated phone line 24 hours a day at 844-833-8441 and use the code 0932 to reserve your place. You may also RSVP on our website galbreaithpickard.com
X-ALT-DESC;FMTTYPE=text/html:<span style="background-color:rgb(255\, 255\, 255)\; color:rgb(34\, 34\, 34)\; font-family:arial\,helvetica\,sans-serif\; font-size:small">Join us at Los Vaqueros to enjoy a COMPLIMENTARY MEAL and learn how you can ease the emotional and financial burden on your family by preplanning your funeral.</span><br />\n<br />\n<span style="background-color:rgb(255\, 255\, 255)\; color:rgb(34\, 34\, 34)\; font-family:arial\,helvetica\,sans-serif\; font-size:small">Seating is limited to the first 25 people who RSVP\, so please call our automated phone line 24 hours a day at&nbsp\;</span><strong>844-833-8441&nbsp\;</strong><span style="background-color:rgb(255\, 255\, 255)\; color:rgb(34\, 34\, 34)\; font-family:arial\,helvetica\,sans-serif\; font-size:small">and&nbsp\;</span><strong>use the code 0932 to reserve your place</strong><span style="background-color:rgb(255\, 255\, 255)\; color:rgb(34\, 34\, 34)\; font-family:arial\,helvetica\,sans-serif\; font-size:small">. You may also RSVP on our website galbreaithpickard.com</span>
LOCATION:Los Vaqueros 4899 I-20 Frontage Rd Willow Park\, Texas 7608
UID:e.2477.20142
SEQUENCE:3
DTSTAMP:20260423T115959Z
URL:http://business.parkercountychamber.com/events/details/food-for-thought-with-galbreaith-pickard-02-19-2025-20142
END:VEVENT

END:VCALENDAR
