BEGIN:VCALENDAR
VERSION:2.0
PRODID:-//ChamberMaster//Event Calendar 2.0//EN
METHOD:PUBLISH
X-PUBLISHED-TTL:P3D
REFRESH-INTERVAL:P3D
CALSCALE:GREGORIAN
BEGIN:VEVENT
DTSTART:20240413T140000Z
DTEND:20240413T220000Z
X-MICROSOFT-CDO-ALLDAYEVENT:FALSE
SUMMARY:Flourishing Faith Womens event
DESCRIPTION:The mission of Flourishing Faith is to give women a special opportunity once a year to be rejuvenated by the Word of God\, worship\, prayer & fellowship with other women. This is an event for every woman who desires to understand that their life matters\, the purpose of their faith & to deepen their relationship with Jesus. As women gather for an entire day to set their hearts on things above\, they will be refreshed as Holy Spirit ministers to them through powerful teaching\, testimonies and breakout sessions. Our prayer is that women will come and receive all that He has for them\, their hearts will be nourished & they will be equipped to live with power and confidence that comes from Trusting in Him. May God ignite an army of Spirit filled women who glorify God by living and loving like Jesus\, letting their light shine in a world that desperately needs the Hope.
X-ALT-DESC;FMTTYPE=text/html:The mission of Flourishing Faith is to give women a special opportunity once a year to be rejuvenated by the Word of God\, worship\, prayer &amp\; fellowship with other women. This is an event for every woman who desires to understand that their life matters\, the purpose of their faith &amp\; to deepen their relationship with Jesus. As women gather for an entire day to set their hearts on things above\, they will be refreshed as Holy Spirit ministers to them through powerful teaching\, testimonies and breakout sessions. Our prayer is that women will come and receive all that He has for them\, their hearts will be nourished &amp\; they will be equipped to live with power and confidence that comes from Trusting in Him. May God ignite an army of Spirit filled women who glorify God by living and loving like Jesus\, letting their light shine in a world that desperately needs the Hope.&nbsp\;
LOCATION:The Springs
UID:e.2477.18943
SEQUENCE:3
DTSTAMP:20260424T054007Z
URL:http://business.parkercountychamber.com/events/details/flourishing-faith-womens-event-18943
END:VEVENT

END:VCALENDAR
