BEGIN:VCALENDAR
VERSION:2.0
PRODID:-//ChamberMaster//Event Calendar 2.0//EN
METHOD:PUBLISH
X-PUBLISHED-TTL:P3D
REFRESH-INTERVAL:P3D
CALSCALE:GREGORIAN
BEGIN:VEVENT
DTSTART:20211015T223000Z
DTEND:20211016T003000Z
X-MICROSOFT-CDO-ALLDAYEVENT:FALSE
SUMMARY:First Bank Tailgate Cookout
DESCRIPTION:First Bank is hosting a FREE cookout prior to the Aledo Football game.  Free hamburgers\, hot dogs\, chips and drinks.
X-ALT-DESC;FMTTYPE=text/html:First Bank is hosting a FREE cookout prior to the Aledo Football game.&nbsp\; Free hamburgers\, hot dogs\, chips and drinks.&nbsp\;&nbsp\;
LOCATION:First Bank 900 Bailey Ranch Road Aledo\, Texas 76008
UID:e.2477.15588
SEQUENCE:3
DTSTAMP:20260426T011946Z
URL:http://business.parkercountychamber.com/events/details/first-bank-tailgate-cookout-15588
END:VEVENT

END:VCALENDAR
