BEGIN:VCALENDAR
VERSION:2.0
PRODID:-//ChamberMaster//Event Calendar 2.0//EN
METHOD:PUBLISH
X-PUBLISHED-TTL:P3D
REFRESH-INTERVAL:P3D
CALSCALE:GREGORIAN
BEGIN:VEVENT
DTSTART;VALUE=DATE:20240827
DTEND;VALUE=DATE:20240828
TRANSP:TRANSPARENT
X-MICROSOFT-CDO-ALLDAYEVENT:TRUE
SUMMARY:Financial Seminar
DESCRIPTION:Learning and staying informed are essential to achieving your financial goals. Join us for a seminar on topics of interest to you on Tuesday\, August 27th.  Call or message my office for details.\n\n\n\nDonna Alberts\, CFP \, ChFC \, CEPA \n\nEdward Jones\n\n300 South Main Street\, Suite 200\n\nWeatherford\, TX 76086\n\n817-596-5841
X-ALT-DESC;FMTTYPE=text/html:<span style="color:rgb(25\, 25\, 26)\; font-family:segoe ui\,segoe ui web (west european)\,-apple-system\,blinkmacsystemfont\,roboto\,helvetica neue\,sans-serif\; font-size:17px">Learning and staying informed are essential to achieving your financial goals. Join us for a seminar on topics of interest to you on Tuesday\, August 27th.&nbsp\; Call or message my office for details.<br />\n<br />\nDonna Alberts\, CFP&reg\;\, ChFC&reg\;\, CEPA&reg\;<br />\nEdward Jones<br />\n300 South Main Street\, Suite 200<br />\nWeatherford\, TX 76086<br />\n<a class="ej-web-dial wd-link" data-wd-enabled="true" data-wd-phone-no="+18175965841" data-wd-title="Click to dial (817) 596-5841 using Web Dial." href="tel:+18175965841">817-596-5841</a></span>
LOCATION:Donna Alberts Office Edward Jones 300 South Main Street\, Suite 200 Weatherford\, TX 76086
UID:e.2477.19735
SEQUENCE:3
DTSTAMP:20260424T001234Z
URL:http://business.parkercountychamber.com/events/details/financial-seminar-19735
END:VEVENT

END:VCALENDAR
