BEGIN:VCALENDAR
VERSION:2.0
PRODID:-//ChamberMaster//Event Calendar 2.0//EN
METHOD:PUBLISH
X-PUBLISHED-TTL:P3D
REFRESH-INTERVAL:P3D
CALSCALE:GREGORIAN
BEGIN:VEVENT
DTSTART:20260505T000000Z
DTEND:20260505T020000Z
X-MICROSOFT-CDO-ALLDAYEVENT:FALSE
SUMMARY:Fauré Requiem
DESCRIPTION:Weatherford College presents Faur  Requiem.  Performed by the Parker County Community Choir\, directed by Rick Rainey.
X-ALT-DESC;FMTTYPE=text/html:<span style="color:rgb(0\, 0\, 0)\; font-family:-apple-system\,system-ui\,segoe ui\,roboto\,helvetica\,arial\,sans-serif\,apple color emoji\,segoe ui emoji\,segoe ui symbol">Weatherford College presents Faur&eacute\; Requiem.&nbsp\; Performed by the Parker County Community Choir\, directed by Rick Rainey.</span>
LOCATION:Weatherford College Alkek Fine Arts Center 225 College Park Dr. Weatherford\, TX 76086
UID:e.2477.21913
SEQUENCE:3
DTSTAMP:20260424T074231Z
URL:http://business.parkercountychamber.com/events/details/faur&#233;-requiem-21913
END:VEVENT

END:VCALENDAR
