BEGIN:VCALENDAR
VERSION:2.0
PRODID:-//ChamberMaster//Event Calendar 2.0//EN
METHOD:PUBLISH
X-PUBLISHED-TTL:P3D
REFRESH-INTERVAL:P3D
CALSCALE:GREGORIAN
BEGIN:VEVENT
DTSTART:20250228T010000Z
DTEND:20250228T030000Z
X-MICROSOFT-CDO-ALLDAYEVENT:FALSE
SUMMARY:Family Ties
DESCRIPTION:Fredrick Sanders Family Ties Piano Concert\n\nContact Fred Sanders & Cameron Streck for more information.\n\nfsanders@wc.edu & cstreck.0156@wcstudents.wc.edu
X-ALT-DESC;FMTTYPE=text/html:<p>Fredrick Sanders Family Ties Piano Concert</p>\n\n<p>Contact Fred Sanders &amp\; Cameron Streck for more information.<br />\n<a href="mailto:fsanders@wc.edu">fsanders@wc.edu</a>&nbsp\;&amp\;&nbsp\;<a href="mailto:cstreck.0156@wcstudents.wc.edu">cstreck.0156@wcstudents.wc.edu</a></p>\n
LOCATION:Weatherford College Alkek Fine Arts Center: Alkek Theater 225 College Park Dr.
UID:e.2477.20169
SEQUENCE:3
DTSTAMP:20260423T115858Z
URL:http://business.parkercountychamber.com/events/details/family-ties-20169
END:VEVENT

END:VCALENDAR
