BEGIN:VCALENDAR
VERSION:2.0
PRODID:-//ChamberMaster//Event Calendar 2.0//EN
METHOD:PUBLISH
X-PUBLISHED-TTL:P3D
REFRESH-INTERVAL:P3D
CALSCALE:GREGORIAN
BEGIN:VEVENT
DTSTART:20211109T150000Z
DTEND:20211109T220000Z
X-MICROSOFT-CDO-ALLDAYEVENT:FALSE
SUMMARY:Fall Rejuvenation Event
DESCRIPTION:Join us for our fall celebration of all things face\, beauty and skincare this Tuesday\, Nov. 9th - \n\nThere will be makeovers\, exclusive pricing\, educational material and more. Get ready to experience the world of medical aesthetics and full-facial rejuvenation!\n\nHoliday season is in full swing and you deserve to look and feel your absolute BEST  There are endless options of how to take care of yourself so it's important to consult with one of our skin care professionals in order to decide what's best for your specific features\, skin type and goals. \n\nWishing you wellness\, \n\ndefyingtimetx.com \n\n#thebestyou
X-ALT-DESC;FMTTYPE=text/html:<p><span style="color:rgb(0\, 0\, 0)"><span style="color:rgb(34\, 34\, 34)\; font-family:arial\; font-size:11pt">Join us for our fall celebration of all things face\, beauty and skincare this Tuesday\, Nov. 9th -&nbsp\;</span></span><br />\n<span style="color:rgb(34\, 34\, 34)\; font-family:arial\; font-size:11pt">There will be makeovers\, exclusive pricing\, educational material and more. Get ready to experience the world of medical aesthetics and full-facial rejuvenation!</span></p>\n\n<p><span style="color:rgb(0\, 0\, 0)"><span style="color:rgb(34\, 34\, 34)\; font-family:arial\; font-size:11pt">Holiday season is in full swing and you deserve to look and feel your absolute BEST&hellip\;&nbsp\;</span></span><span style="color:rgb(34\, 34\, 34)\; font-family:arial\; font-size:11pt">There are endless options of how to take care of yourself so it&rsquo\;s important to consult with one of our skin care professionals in order to decide what&rsquo\;s best for your specific features\, skin type and goals.&nbsp\;</span></p>\n\n<p><span style="color:rgb(0\, 0\, 0)"><span style="color:rgb(34\, 34\, 34)\; font-family:arial\; font-size:11pt">Wishing you wellness\,&nbsp\;</span></span><br />\n<a href="http://defyingtimetx.com/" style="text-decoration: none\;"><u>defyingtimetx.com</u></a><span style="color:rgb(34\, 34\, 34)\; font-family:arial\; font-size:11pt">&nbsp\;</span><br />\n<span style="color:rgb(34\, 34\, 34)\; font-family:arial\; font-size:11pt">#thebestyou</span></p>\n
LOCATION:Defying Time Med Spa
UID:e.2477.15622
SEQUENCE:3
DTSTAMP:20260425T223125Z
URL:http://business.parkercountychamber.com/events/details/fall-rejuvenation-event-15622
END:VEVENT

END:VCALENDAR
