BEGIN:VCALENDAR
VERSION:2.0
PRODID:-//ChamberMaster//Event Calendar 2.0//EN
METHOD:PUBLISH
X-PUBLISHED-TTL:P3D
REFRESH-INTERVAL:P3D
CALSCALE:GREGORIAN
BEGIN:VEVENT
DTSTART:20240110T173000Z
DTEND:20240110T190000Z
X-MICROSOFT-CDO-ALLDAYEVENT:FALSE
SUMMARY:EPCCC Membership Luncheon - The Dynamics of Growth & Development
DESCRIPTION:As the 6th fastest growing county in the nation\, this month's luncheon will be about the Dynamics of Growth & Development.  \n\nModerator: Patrick Brophey\, North Texas Commission\n\nPanelist: Patrick Lawler\, ZacTax\n\n               Forrest Collins\, Collins Construction Services\n\n               Susan Bohn\, Aledo ISD\n\n               Kelli Stumbo\, Keller Williams Heritage West\n\nSpotlight Member: Bryan Insurance Agency\n\nBakers Ribs will be serving:\n\nCertified Black Angus Beef Brisket\, Homemade Mashed Potatoes\, Bacon Almond Green Beans\, Green Salad\, Ranch and Vinaigrette Dressing\, Dinner Rolls\, Bbq Sauce\, Pickles\, Plates\, Meal Kits\, Unsweetened Tea\, cups\, ice and water.     Starlight Mints.
X-ALT-DESC;FMTTYPE=text/html:<p><span style="color: rgb(34\, 34\, 34)\; font-family: Arial\, Helvetica\, sans-serif\; font-size: small\;">As the 6th fastest growing county in the nation\, this month&#39\;s luncheon will be about the Dynamics of Growth &amp\; Development. &nbsp\;<br />\nModerator: Patrick Brophey\, North Texas Commission<br />\nPanelist: Patrick Lawler\, ZacTax<br />\n&nbsp\; &nbsp\; &nbsp\; &nbsp\; &nbsp\; &nbsp\; &nbsp\; &nbsp\;Forrest Collins\, Collins Construction Services<br />\n&nbsp\; &nbsp\; &nbsp\; &nbsp\; &nbsp\; &nbsp\; &nbsp\; &nbsp\;Susan Bohn\, Aledo ISD<br />\n&nbsp\; &nbsp\; &nbsp\; &nbsp\; &nbsp\; &nbsp\; &nbsp\; &nbsp\;Kelli Stumbo\, Keller Williams Heritage West</span></p>\n\n<p><span style="color: rgb(34\, 34\, 34)\; font-family: Arial\, Helvetica\, sans-serif\; font-size: small\;">Spotlight Member: Bryan Insurance Agency</span></p>\n\n<p><span style="color: rgb(34\, 34\, 34)\; font-family: Arial\, Helvetica\, sans-serif\; font-size: small\;">Bakers Ribs will be serving:</span><br style="color: rgb(34\, 34\, 34)\; font-family: Arial\, Helvetica\, sans-serif\; font-size: small\;" />\n<span style="color: rgb(34\, 34\, 34)\; font-family: Arial\, Helvetica\, sans-serif\; font-size: small\;">Certified Black Angus Beef Brisket\, Homemade Mashed Potatoes\, Bacon Almond Green Beans\, Green Salad\, Ranch and Vinaigrette Dressing\, Dinner Rolls\, Bbq Sauce\, Pickles\, Plates\, Meal Kits\, Unsweetened Tea\, cups\, ice and water.&nbsp\; &nbsp\; &nbsp\;Starlight Mints.</span></p>\n
LOCATION:New River Fellowship 3252 E. I-20 Service Road Hudson Oaks\, Tx 76087
UID:e.2477.15650
SEQUENCE:3
DTSTAMP:20260424T095209Z
URL:http://business.parkercountychamber.com/events/details/epccc-membership-luncheon-the-dynamics-of-growth-development-15650
END:VEVENT

END:VCALENDAR
