BEGIN:VCALENDAR
VERSION:2.0
PRODID:-//ChamberMaster//Event Calendar 2.0//EN
METHOD:PUBLISH
X-PUBLISHED-TTL:P3D
REFRESH-INTERVAL:P3D
CALSCALE:GREGORIAN
BEGIN:VEVENT
DTSTART:20240214T173000Z
DTEND:20240214T190000Z
X-MICROSOFT-CDO-ALLDAYEVENT:FALSE
SUMMARY:EPCCC Membership Luncheon-Candidates Forum
DESCRIPTION:The Parker County Chamber Governmental Affairs committee is hosting a Candidates Forum for the contested races listed below. For time purposes\, these are the races we are focusing on. The questions will be given at the event and not beforehand. \n\nSubstitutes or spokesman for candidates will not be permitted. \n\n10:45AM    Doors Open\n\n11:00AM     Meet & Greet\n\n11:20AM     Buffet opens for lunch\n\n11:45AM     Candidates Forum begins\n\n\n\nLogistics:\n\n	Political Signs   No signs of any kind outside\, including on the frontage road. We will ask you to remove any we see.\n	Parking   No parking on the frontage road or in non-parking areas. Use designated parking only.\n	Door Prizes - No alcohol\n\n\n\n	\n		\n	\n	\n		\n			Candidates in Contested Races: \n		\n		\n			 \n		\n		\n			Candidates for SD30\n		\n		\n			Brent Hagenbuch - unable to attend\n		\n		\n			Jace Yarbrough - confirmed\n		\n		\n			Dr. Carrie De Moor -invited\n		\n		\n			Cody Clark - confirmed\n		\n		\n			 \n		\n		\n			Candidates for District 60\n		\n		\n			State Representative Glenn Rogers\n\n			(incumbent) - confirmed\n		\n		\n			Mike Olcott - confirmed\n		\n		\n			 \n		\n		\n			Candidates for 12th District (Kay Granger): \n		\n		\n			Craig Goldman - confirmed\n		\n		\n			Clint Dorris - confirmed\n		\n		\n			Shellie Gardner - confirmed\n		\n		\n			Anne Henley - not able to attend\n		\n		\n			John C. O'Shea - confirmed\n		\n		\n			Ryan Catala - invited\n		\n		\n			Montgomery Maryland - invited\n		\n		\n			 \n		\n		\n			Constable for Pct 1\n		\n		\n			Ray Wright (Incumbent) - confirmed\n		\n		\n			Jason Ingram - invited \n		\n		\n			 \n		\n		\n			Constable for Pct 3\n		\n		\n			Glen Praytor (Incumbent) - confirmed\n		\n		\n			Cruz Rivas III - confirmed\n		\n		\n			 \n		\n		\n			Constable for Pct. 4\n		\n		\n			Scott Jones (Incumbent) - confirmed\n		\n		\n			Jerry Stockon - unable to attend\n		\n	\n\n\n\nSpotlight:  Brooke Worthington Ladouceur - Flourishing Faith\n\nCaterer:  Aaron's Catering - Pork Tenderloin w/ sauce\, mashed potatoes\, carrots and salad
X-ALT-DESC;FMTTYPE=text/html:The Parker County Chamber Governmental Affairs committee is hosting a Candidates Forum for the contested races listed below.&nbsp\;For time purposes\, these are the races we are focusing on. The questions will be given at the event and not beforehand.&nbsp\;<br />\nSubstitutes or spokesman for candidates will not be permitted.&nbsp\;<br />\n10:45AM&nbsp\;&nbsp\;&nbsp\;&nbsp\;Doors Open<br />\n11:00AM&nbsp\;&nbsp\;&nbsp\;&nbsp\;&nbsp\;Meet &amp\; Greet<br />\n11:20AM&nbsp\;&nbsp\;&nbsp\;&nbsp\;&nbsp\;Buffet opens for lunch<br />\n11:45AM&nbsp\;&nbsp\;&nbsp\;&nbsp\;&nbsp\;Candidates Forum begins<br />\n<br />\nLogistics:\n<ol start="1" style="margin-bottom: 0in\; color: rgb(34\, 34\, 34)\; font-family: Arial\, Helvetica\, sans-serif\; font-size: small\; margin-top: 0in\;" type="1">\n	<li class="m_7993931323524343146MsoListParagraph" style="margin: 0in\; font-size: 11pt\; font-family: Calibri\, sans-serif\;">Political Signs &ndash\; No signs of any kind outside\, including on the frontage road. We will ask you to remove any we see.</li>\n	<li class="m_7993931323524343146MsoListParagraph" style="margin: 0in\; font-size: 11pt\; font-family: Calibri\, sans-serif\;">Parking &ndash\; No parking on the frontage road or in non-parking areas. Use designated parking only.</li>\n	<li class="m_7993931323524343146MsoListParagraph" style="margin: 0in\; font-size: 11pt\; font-family: Calibri\, sans-serif\;">Door Prizes - No alcohol</li>\n</ol>\n\n<table border="0" cellpadding="0" cellspacing="0" style="border-collapse:collapse\;width:300px\;" width="300">\n	<colgroup>\n		<col style="width:300px\;" />\n	</colgroup>\n	<tbody>\n		<tr height="21" style="height:21px\;">\n			<td height="21" style="height:21px\;width:300px\;">Candidates in Contested Races:&nbsp\;</td>\n		</tr>\n		<tr height="21" style="height:21px\;">\n			<td height="21" style="height:21px\;">&nbsp\;</td>\n		</tr>\n		<tr height="20" style="height:20px\;">\n			<td height="20" style="height:20px\;"><strong>Candidates for SD30</strong></td>\n		</tr>\n		<tr height="20" style="height:20px\;">\n			<td height="20" style="height:20px\;">Brent Hagenbuch - unable to attend</td>\n		</tr>\n		<tr height="20" style="height:20px\;">\n			<td height="20" style="height:20px\;">Jace Yarbrough - confirmed</td>\n		</tr>\n		<tr height="20" style="height:20px\;">\n			<td height="20" style="height:20px\;">Dr. Carrie De Moor -invited</td>\n		</tr>\n		<tr height="20" style="height:20px\;">\n			<td height="20" style="height:20px\;">Cody Clark - confirmed</td>\n		</tr>\n		<tr height="20" style="height:20px\;">\n			<td height="20" style="height:20px\;">&nbsp\;</td>\n		</tr>\n		<tr height="20" style="height:20px\;">\n			<td height="20" style="height:20px\;"><strong>Candidates for District 60</strong></td>\n		</tr>\n		<tr height="20" style="height:20px\;">\n			<td height="20" style="height:20px\;">State Representative Glenn Rogers<br />\n			(incumbent) - confirmed</td>\n		</tr>\n		<tr height="20" style="height:20px\;">\n			<td height="20" style="height:20px\;">Mike Olcott - confirmed</td>\n		</tr>\n		<tr height="20" style="height:20px\;">\n			<td height="20" style="height:20px\;">&nbsp\;</td>\n		</tr>\n		<tr height="21" style="height:21px\;">\n			<td height="21" style="height:21px\;"><strong>Candidates for 12<sup>th</sup> District (Kay Granger):</strong>&nbsp\;</td>\n		</tr>\n		<tr height="20" style="height:20px\;">\n			<td height="20" style="height:20px\;">Craig Goldman - confirmed</td>\n		</tr>\n		<tr height="20" style="height:20px\;">\n			<td height="20" style="height:20px\;">Clint Dorris - confirmed</td>\n		</tr>\n		<tr height="20" style="height:20px\;">\n			<td height="20" style="height:20px\;">Shellie Gardner - confirmed</td>\n		</tr>\n		<tr height="20" style="height:20px\;">\n			<td height="20" style="height:20px\;">Anne Henley - not able to attend</td>\n		</tr>\n		<tr height="20" style="height:20px\;">\n			<td height="20" style="height:20px\;">John C. O&#39\;Shea - confirmed</td>\n		</tr>\n		<tr height="20" style="height:20px\;">\n			<td height="20" style="height:20px\;">Ryan Catala - invited</td>\n		</tr>\n		<tr height="20" style="height:20px\;">\n			<td height="20" style="height:20px\;">Montgomery Maryland - invited</td>\n		</tr>\n		<tr height="20" style="height:20px\;">\n			<td height="20" style="height:20px\;">&nbsp\;</td>\n		</tr>\n		<tr height="20" style="height:20px\;">\n			<td height="20" style="height:20px\;"><strong>Constable for Pct 1</strong></td>\n		</tr>\n		<tr height="20" style="height:20px\;">\n			<td height="20" style="height:20px\;">Ray Wright (Incumbent) - confirmed</td>\n		</tr>\n		<tr height="20" style="height:20px\;">\n			<td height="20" style="height:20px\;">Jason Ingram - invited&nbsp\;</td>\n		</tr>\n		<tr height="20" style="height:20px\;">\n			<td height="20" style="height:20px\;">&nbsp\;</td>\n		</tr>\n		<tr height="20" style="height:20px\;">\n			<td height="20" style="height:20px\;"><strong>Constable for Pct 3</strong></td>\n		</tr>\n		<tr height="20" style="height:20px\;">\n			<td height="20" style="height:20px\;">Glen Praytor (Incumbent) - confirmed</td>\n		</tr>\n		<tr height="20" style="height:20px\;">\n			<td height="20" style="height:20px\;">Cruz Rivas III - confirmed</td>\n		</tr>\n		<tr height="20" style="height:20px\;">\n			<td height="20" style="height:20px\;">&nbsp\;</td>\n		</tr>\n		<tr height="20" style="height:20px\;">\n			<td height="20" style="height:20px\;"><strong>Constable for Pct. 4</strong></td>\n		</tr>\n		<tr height="20" style="height:20px\;">\n			<td height="20" style="height:20px\;">Scott Jones (Incumbent) - confirmed</td>\n		</tr>\n		<tr height="20" style="height:20px\;">\n			<td height="20" style="height:20px\;">Jerry Stockon - unable to attend</td>\n		</tr>\n	</tbody>\n</table>\n<br />\nSpotlight:&nbsp\; Brooke Worthington Ladouceur - Flourishing Faith<br />\nCaterer:&nbsp\; Aaron&#39\;s Catering - Pork Tenderloin w/ sauce\, mashed potatoes\, carrots and salad
LOCATION:New River Fellowship 3252 E. I-20 Service Road Hudson Oaks\, Texas 76087
UID:e.2477.15651
SEQUENCE:3
DTSTAMP:20260424T095404Z
URL:http://business.parkercountychamber.com/events/details/epccc-membership-luncheon-candidates-forum-02-14-2024-15651
END:VEVENT

END:VCALENDAR
