BEGIN:VCALENDAR
VERSION:2.0
PRODID:-//ChamberMaster//Event Calendar 2.0//EN
METHOD:PUBLISH
X-PUBLISHED-TTL:P3D
REFRESH-INTERVAL:P3D
CALSCALE:GREGORIAN
BEGIN:VEVENT
DTSTART:20231108T173000Z
DTEND:20231108T190000Z
X-MICROSOFT-CDO-ALLDAYEVENT:FALSE
SUMMARY:EPCCC Membership Luncheon-Award Winning Networking Luncheon
DESCRIPTION:Award Winning Networking Luncheon\n\nThis event is a fun\, and interactive event you won't want to miss. Each attendee will have 1-minute to promote their business to 32 people face to face.\n\nBring promotional items to pass out to everyone.\n\nYou will want to bring 32 promotional items to pass out during the networking event.\n\n\n\nHere are members that can help you order promotional items for this event:\n\nAlphaGraphics Weatherford (817) 727-8939 \n\nC & K Designes\, LLC (817) 440-2756 \n\nGLS Graphics (817) 766-6420\n\nHartness Print Center (817) 594-6020 \n\nGLS Graphics  (817) 766-6420 \n\n\n\nSpotlight Member:  Premier Restoration and Construction\n\n\n\nCaterer:  Brenda's Catering - Baked Turkey/Gravy\, Dressing\, Mashed Potatoes\, Seasoned Green Beans\, Tossed Salad\, Rolls\, Assorted Cakes\, Tea and Water
X-ALT-DESC;FMTTYPE=text/html:<strong><span style="font-size:14px\;">Award Winning Networking Luncheon</span></strong><br />\nThis event is a fun\, and interactive event you won&#39\;t want to miss. Each attendee will have 1-minute to promote their business to 32 people face to face.<br />\nBring promotional items to pass out to everyone.<br />\nYou will want to bring 32 promotional items to pass out during the networking event.<br />\n<br />\nHere are members that can help you order promotional items for this event:<br />\nAlphaGraphics Weatherford (817) 727-8939&nbsp\;<br />\nC &amp\; K Designes\, LLC (817) 440-2756&nbsp\;<br />\nGLS Graphics (817) 766-6420<br />\nHartness Print Center (817) 594-6020&nbsp\;<br />\nGLS Graphics&nbsp\; (817) 766-6420&nbsp\;<br />\n<br />\nSpotlight Member:&nbsp\; Premier Restoration and Construction<br />\n<br />\nCaterer:&nbsp\; Brenda&#39\;s Catering -&nbsp\;Baked Turkey/Gravy\,&nbsp\;Dressing\, Mashed Potatoes\, Seasoned Green Beans\, Tossed Salad\, Rolls\, Assorted Cakes\, Tea and Water
LOCATION:Willow Park Baptist Church Fellowship Hall 777 Crown Pointe Blvd Willow Park
UID:e.2477.15648
SEQUENCE:3
DTSTAMP:20260424T125214Z
URL:http://business.parkercountychamber.com/events/details/epccc-membership-luncheon-award-winning-networking-luncheon-15648
END:VEVENT

END:VCALENDAR
