BEGIN:VCALENDAR
VERSION:2.0
PRODID:-//ChamberMaster//Event Calendar 2.0//EN
METHOD:PUBLISH
X-PUBLISHED-TTL:P3D
REFRESH-INTERVAL:P3D
CALSCALE:GREGORIAN
BEGIN:VEVENT
DTSTART:20211013T163000Z
DTEND:20211013T180000Z
X-MICROSOFT-CDO-ALLDAYEVENT:FALSE
SUMMARY:EPCCC Membership Luncheon
DESCRIPTION:Interested in hearing what's going on in Parker County? Attend this month's membership luncheon and hear from Aledo\, Hudson Oaks\, Weatherford and Willow Park mayors.\n\n\n\nSpotlight Members:  Careity Foundation\, Texas Health Neighborhood Care and Wellness - Willow Park\, and Trinity Christian Academy\n\nSilent Sponsor:  Lakeshore Baptist Church\n\n\n\nCaterer:  Los Vaqueros - Chicken Fajitas\n\n\n\nAlcoholic Beverages:\n\nAlcoholic beverages are prohibited from anywhere on the property of New River Fellowship Church (including buildings\, grounds\, and parking lot). In compliance with the Church Covenant\, this facility is a non-alcoholic facility. This rule will be strictly adhered to.  This includes door prizes.
X-ALT-DESC;FMTTYPE=text/html:<span style="font-size:14px\;">Interested in hearing what&#39\;s going on in Parker County? Attend this month&#39\;s membership luncheon and hear from&nbsp\;Aledo\, Hudson Oaks\, Weatherford and Willow Park mayors.<br />\n<br />\nSpotlight Members:&nbsp\; Careity Foundation\, Texas Health Neighborhood Care and Wellness - Willow Park\, and Trinity Christian Academy<br />\nSilent Sponsor:&nbsp\; Lakeshore Baptist Church<br />\n<br />\nCaterer:&nbsp\; Los Vaqueros - Chicken Fajitas</span><br />\n<br />\n<span style="font-size:14.0pt\;">Alcoholic Beverages:</span><br />\nAlcoholic beverages are prohibited from anywhere on the property of New River Fellowship Church (including buildings\, grounds\, and parking lot). In compliance with the Church Covenant\, this facility is a non-alcoholic facility. This rule will be strictly adhered to.&nbsp\; This includes door prizes.<br />\n&nbsp\;
LOCATION:New River Fellowship
UID:e.2477.14744
SEQUENCE:3
DTSTAMP:20260426T000442Z
URL:http://business.parkercountychamber.com/events/details/epccc-membership-luncheon-10-13-2021-14744
END:VEVENT

END:VCALENDAR
