BEGIN:VCALENDAR
VERSION:2.0
PRODID:-//ChamberMaster//Event Calendar 2.0//EN
METHOD:PUBLISH
X-PUBLISHED-TTL:P3D
REFRESH-INTERVAL:P3D
CALSCALE:GREGORIAN
BEGIN:VEVENT
DTSTART:20220413T163000Z
DTEND:20220413T180000Z
X-MICROSOFT-CDO-ALLDAYEVENT:FALSE
SUMMARY:EPCCC April Membership Luncheon
DESCRIPTION:Workforce Update - Adam Kern "How to Retain and Attract your Next Workforce"\n\n\n\nCaterer:  Drake's Yoke - Sliced Brisket\, Mash Potatoes\, Green Beans\; Dinner Rolls\, House salad &\n\nBrownies
X-ALT-DESC;FMTTYPE=text/html:<p>Workforce Update - Adam Kern &quot\;How to Retain and Attract your Next Workforce&quot\;<br />\n<br />\nCaterer:&nbsp\; Drake&#39\;s Yoke -&nbsp\;<span style="font-family:arial narrow\,sans-serif\;"><span style="font-size:12.0pt\;">Sliced Brisket\,&nbsp\;</span></span><span style="font-size:12pt\;"><span style="font-family:arial narrow\,sans-serif\;">Mash Potatoes\,&nbsp\;</span></span><span style="font-size:12pt\;"><span style="font-family:arial narrow\,sans-serif\;">Green Beans\;&nbsp\;</span></span><span style="font-size:12pt\;"><span style="font-family:arial narrow\,sans-serif\;">Dinner Rolls\,&nbsp\;</span></span><span style="font-size:12pt\;"><span style="font-family:arial narrow\,sans-serif\;">House&nbsp\;salad &amp\;</span></span></p>\n\n<p><span style="font-size:12pt\;"><span style="font-family:arial narrow\,sans-serif\;">Brownies</span></span><br />\n<br />\n&nbsp\;</p>\n
LOCATION:Springhill Suites by Marriott
UID:e.2477.15629
SEQUENCE:3
DTSTAMP:20260425T154148Z
URL:http://business.parkercountychamber.com/events/details/epccc-april-membership-luncheon-15629
END:VEVENT

END:VCALENDAR
