BEGIN:VCALENDAR
VERSION:2.0
PRODID:-//ChamberMaster//Event Calendar 2.0//EN
METHOD:PUBLISH
X-PUBLISHED-TTL:P3D
REFRESH-INTERVAL:P3D
CALSCALE:GREGORIAN
BEGIN:VEVENT
DTSTART:20231110T140000Z
DTEND:20231110T220000Z
X-MICROSOFT-CDO-ALLDAYEVENT:FALSE
SUMMARY:Employee Development
DESCRIPTION:Advance your career skills and workplace success with our upcoming professional development course! Learn to manage emotions\, empathize\, and communicate better through Weatherford College's latest Corporate College training. Bridge generational gaps in the workplace by understanding different motivations\, strengths\, and communication styles. This in-person\, interactive session will provide practical tips and frameworks for providing quality customer experiences and service. Discover strategies for creating unique customer experiences that drive loyalty and growth. Enroll in the Employee Development course covering these in-demand topics on EI\, customer service\, and generations at work. Registration is open - improve leadership abilities\, relationships\, and performance by registering early! Invest in yourself and your team.
X-ALT-DESC;FMTTYPE=text/html:<div>\n<div>Advance your career skills and workplace success with our upcoming professional development course! Learn to manage emotions\, empathize\, and communicate better through Weatherford College&rsquo\;s latest Corporate College training. Bridge generational gaps in the workplace by understanding different motivations\, strengths\, and communication styles. This in-person\, interactive session will provide practical tips and frameworks for providing quality customer experiences and service. Discover strategies for creating unique customer experiences that drive loyalty and growth. Enroll in the Employee Development course covering these in-demand topics on EI\, customer service\, and generations at work. Registration is open - improve leadership abilities\, relationships\, and performance by registering early! Invest in yourself and your team.</div>\n</div>\n\n<div>\n<div>&nbsp\;</div>\n\n<div>&nbsp\;</div>\n</div>\n
LOCATION:Weatherford College Emerging Technologies & Workforce Building 225 College Park Dr.
UID:e.2477.19117
SEQUENCE:3
DTSTAMP:20260424T123456Z
URL:http://business.parkercountychamber.com/events/details/employee-development-19117
END:VEVENT

END:VCALENDAR
