BEGIN:VCALENDAR
VERSION:2.0
PRODID:-//ChamberMaster//Event Calendar 2.0//EN
METHOD:PUBLISH
X-PUBLISHED-TTL:P3D
REFRESH-INTERVAL:P3D
CALSCALE:GREGORIAN
BEGIN:VEVENT
DTSTART:20220310T230000Z
DTEND:20220311T010000Z
X-MICROSOFT-CDO-ALLDAYEVENT:FALSE
SUMMARY:Economic Development Mixer- Aledo
DESCRIPTION:You are cordially invited to attend our March 10th Economic Development mixer. Did you know that Parker County is the 32nd largest county in Texas creating many opportunities for development. Now\, more than ever\, the real estate industry needs to share insights\, collaborate\, and make new connections. Come to network with other professionals in Real Estate and learn more about the opportunities for development in Aledo. Wine\, Beer and light bites will be provided.\n\n\n\nFeel free to share this invitation to your co-workers.
X-ALT-DESC;FMTTYPE=text/html:<span style="font-family: Arial\, Verdana\, Helvetica\, sans-serif\; white-space: pre-wrap\; font-size: 16px\; color: rgb(20\, 20\, 20)\;">You are cordially invited to attend our March 10th Economic Development mixer. Did you know that Parker County is the 32nd largest county in Texas creating </span><span style="font-family: Arial\, Verdana\, Helvetica\, sans-serif\; white-space: pre-wrap\; font-size: 16px\;">many opportunities for development. Now\, more than ever\, the real estate industry needs to share insights\, collaborate\, and make new connections. Come to network with other professionals in Real Estate&nbsp\;and learn more about the opportunities for&nbsp\;development in Aledo. Wine\, Beer and light bites will be provided.<br />\n<br />\nFeel free to share this invitation to your co-workers.</span>
LOCATION:Hosted by First Financial Bank Aledo
UID:e.2477.16464
SEQUENCE:3
DTSTAMP:20260425T170506Z
URL:http://business.parkercountychamber.com/events/details/economic-development-mixer-aledo-16464
END:VEVENT

END:VCALENDAR
