BEGIN:VCALENDAR
VERSION:2.0
PRODID:-//ChamberMaster//Event Calendar 2.0//EN
METHOD:PUBLISH
X-PUBLISHED-TTL:P3D
REFRESH-INTERVAL:P3D
CALSCALE:GREGORIAN
BEGIN:VEVENT
DTSTART:20220602T140000Z
DTEND:20220602T230000Z
X-MICROSOFT-CDO-ALLDAYEVENT:FALSE
SUMMARY:Drippin' with Body By Chop
DESCRIPTION:Come join us Thursday\, June 2nd at Body By Chop's to get your Shine on!\n\nIf you're Grindin' in the gym then you better be Drippin'!\n\nHydrate yourself with one of PPC's IV Drips after a hard workout!\n\nIV therapy is a key factor in muscle function and recovery.\n\nDon't forget to Shine after you Grind!\n\n\n\nPre book an IV Drip with us today.\n\nIV Infusion | Pinnacle Performance Care | Aledo
X-ALT-DESC;FMTTYPE=text/html:Come join us Thursday\, June 2nd at Body By Chop&#39\;s to get your Shine on!<br />\nIf you&#39\;re Grindin&#39\; in the gym then you better be Drippin&#39\;!<br />\nHydrate yourself with one of PPC&#39\;s IV Drips after a hard workout!<br />\nIV therapy is a key factor in muscle function and recovery.<br />\nDon&#39\;t forget to Shine after you Grind!<br />\n<br />\nPre book an IV Drip with us today.<br />\n<a href="https://www.pinnacleperformancecare.com/">IV Infusion | Pinnacle Performance Care | Aledo</a>
LOCATION:Body By Chop 681 Bearcat Rd\, Aledo\, TX 76008
UID:e.2477.17803
SEQUENCE:3
DTSTAMP:20260425T131417Z
URL:http://business.parkercountychamber.com/events/details/drippin-with-body-by-chop-17803
END:VEVENT

END:VCALENDAR
