BEGIN:VCALENDAR
VERSION:2.0
PRODID:-//ChamberMaster//Event Calendar 2.0//EN
METHOD:PUBLISH
X-PUBLISHED-TTL:P3D
REFRESH-INTERVAL:P3D
CALSCALE:GREGORIAN
BEGIN:VEVENT
DTSTART:20220302T150000Z
DTEND:20220302T230000Z
X-MICROSOFT-CDO-ALLDAYEVENT:FALSE
SUMMARY:DOT 101: Free Training
DESCRIPTION:Free DOT Training from Cimarron Safety & Consulting!\n\nSquaw Creek Golf Course\n\nMarch 2\, 2022\, 9:00AM - 5:00PM\n\nRSVP Required - Limited to the First 25 Registrants\n\n\n\nTraining will cover:\n\n1) DOT Scores and Fleet Controls:\n\nGain an understanding of the different DOT scores\, and how that can affect a company with insurance carriers and DOT audits.\n\nLearn strategies to improve DOT scores and driver controls to prevent future accidents and mitigate future litigation traps and pitfalls.\n\n\n\n2) Driver Qualification (DQ) Files:\n\nHow to properly complete and maintain all DOT driver qualification files and maintenance files.\n\nSuggestions to improve driver selection and retention.\n\n\n\n3) DOT Drug Testing\n\nDecipher the FMCSA drug and alcohol rules.\n\nThe who\, when\, where\, and time constraints on giving a driver a DOT drug test.\n\n\n\nClass size is limited to 25 attendees. \n\nMust RSVP to attend this free training.\n\n\n\nIf you have questions\, or need further assistance with your RSVP please contact us:\n\nEmail: LISAB@BRYANINS.COM
X-ALT-DESC;FMTTYPE=text/html:Free DOT Training from Cimarron Safety &amp\; Consulting!<br />\nSquaw Creek Golf Course<br />\nMarch 2\, 2022\, 9:00AM - 5:00PM<br />\nRSVP Required - Limited to the First 25 Registrants<br />\n<br />\nTraining will cover:<br />\n1) DOT Scores and Fleet Controls:<br />\nGain an understanding of the different DOT scores\, and how that can affect a company with insurance carriers and DOT audits.<br />\nLearn strategies to improve DOT scores and driver controls to prevent future accidents and mitigate future litigation traps and pitfalls.<br />\n<br />\n2) Driver Qualification (DQ) Files:<br />\nHow to properly complete and maintain all DOT driver qualification files and maintenance files.<br />\nSuggestions to improve driver selection and retention.<br />\n<br />\n3) DOT Drug Testing<br />\nDecipher the FMCSA drug and alcohol rules.<br />\nThe who\, when\, where\, and time constraints on giving a driver a DOT drug test.<br />\n<br />\nClass size is limited to 25 attendees.&nbsp\;<br />\nMust RSVP to attend this free training.<br />\n<br />\nIf you have questions\, or need further assistance with your RSVP please contact us:<br />\nEmail: LISAB@BRYANINS.COM<br />\n&nbsp\;
LOCATION:
UID:e.2477.17509
SEQUENCE:3
DTSTAMP:20260425T170355Z
URL:http://business.parkercountychamber.com/events/details/dot-101-free-training-17509
END:VEVENT

END:VCALENDAR
