BEGIN:VCALENDAR
VERSION:2.0
PRODID:-//ChamberMaster//Event Calendar 2.0//EN
METHOD:PUBLISH
X-PUBLISHED-TTL:P3D
REFRESH-INTERVAL:P3D
CALSCALE:GREGORIAN
BEGIN:VEVENT
DTSTART:20251014T210000Z
DTEND:20251014T220000Z
X-MICROSOFT-CDO-ALLDAYEVENT:FALSE
SUMMARY:Dementia Support Group
DESCRIPTION:We are honored and privileged to care for those affected by dementia. Even more so\, we value the efforts of the caregivers\, especially the families of our residents. Change can often bring about stress and anxiety with the uncertainties of what to expect and how to prepare. We are excited to be partnering with Interim Home Health and Hospice as our sponsor and host for this group\, to help create an engaging and nurturing environment that will help build a community of love and support as we walk through this journey together.
X-ALT-DESC;FMTTYPE=text/html:We are honored and privileged to care for those affected by dementia. Even more so\, we value the efforts of the caregivers\, especially the families of our residents. Change can often bring about stress and anxiety with the uncertainties of what to expect and how to prepare. We are excited to be partnering with Interim Home Health and Hospice as our sponsor and host for this group\, to help create an engaging and nurturing environment that will help build a community of love and support as we walk through this journey together.
LOCATION:Harvest of Aledo 1043 Bailey Ranch Rd. Aledo\, Texas
UID:e.2477.20180
SEQUENCE:3
DTSTAMP:20260423T015219Z
URL:http://business.parkercountychamber.com/events/details/dementia-support-group-10-14-2025-20180
END:VEVENT

END:VCALENDAR
