BEGIN:VCALENDAR
VERSION:2.0
PRODID:-//ChamberMaster//Event Calendar 2.0//EN
METHOD:PUBLISH
X-PUBLISHED-TTL:P3D
REFRESH-INTERVAL:P3D
CALSCALE:GREGORIAN
BEGIN:VEVENT
DTSTART:20211011T164500Z
DTEND:20211011T174500Z
X-MICROSOFT-CDO-ALLDAYEVENT:FALSE
SUMMARY:Dedication of Alesia Armstrong Wiggs School of Nursing
DESCRIPTION:
X-ALT-DESC;FMTTYPE=text/html:
LOCATION:Don Allen Health Science Building at Weatherford College
UID:e.2477.15540
SEQUENCE:3
DTSTAMP:20260426T000805Z
URL:http://business.parkercountychamber.com/events/details/dedication-of-alesia-armstrong-wiggs-school-of-nursing-15540
END:VEVENT

END:VCALENDAR
