BEGIN:VCALENDAR
VERSION:2.0
PRODID:-//ChamberMaster//Event Calendar 2.0//EN
METHOD:PUBLISH
X-PUBLISHED-TTL:P3D
REFRESH-INTERVAL:P3D
CALSCALE:GREGORIAN
BEGIN:VEVENT
DTSTART:20241114T233000Z
DTEND:20241115T013000Z
X-MICROSOFT-CDO-ALLDAYEVENT:FALSE
SUMMARY:Dad Has Dementia\, Now What? Community Education Series\, Estate Planning
DESCRIPTION:Join us for a comprehensive workshop covering essential estate planning topics to help secure your family's future. Learn practical strategies for protecting your assets\, avoiding probate\, and ensuring your wishes are carried out. Topics include:\n\nWills & Living Trusts\n\nAsset Protection Strategies\n\nProbate Avoidance\n\nLong-Term Care Planning\n\nMedical Directives & Power of Attorney
X-ALT-DESC;FMTTYPE=text/html:Join us for a comprehensive workshop covering essential estate planning topics to help secure your family&#39\;s future. Learn practical strategies for protecting your assets\, avoiding probate\, and ensuring your wishes are carried out. Topics include:<br />\nWills &amp\; Living Trusts<br />\nAsset Protection Strategies<br />\nProbate Avoidance<br />\nLong-Term Care Planning<br />\nMedical Directives &amp\; Power of Attorney
LOCATION:Benbrook Public Library 1065 Mercedes Street Benbrook\, TX 76126
UID:e.2477.20048
SEQUENCE:3
DTSTAMP:20260423T201021Z
URL:http://business.parkercountychamber.com/events/details/dad-has-dementia-now-what-community-education-series-estate-planning-20048
END:VEVENT

END:VCALENDAR
