BEGIN:VCALENDAR
VERSION:2.0
PRODID:-//ChamberMaster//Event Calendar 2.0//EN
METHOD:PUBLISH
X-PUBLISHED-TTL:P3D
REFRESH-INTERVAL:P3D
CALSCALE:GREGORIAN
BEGIN:VEVENT
DTSTART;VALUE=DATE:20250204
DTEND;VALUE=DATE:20250205
TRANSP:TRANSPARENT
X-MICROSOFT-CDO-ALLDAYEVENT:TRUE
SUMMARY:Craft Day
DESCRIPTION:Craft Day at all play sessions\n\nThis event will be free with the purchase of your play session. We will be doing crafts and sending them to "The Rusty Nugget Antiques" to say Thank You for donating the funds to purchase the soft play to Com'on Play Kids!
X-ALT-DESC;FMTTYPE=text/html:<p style="text-align:center"><u>Craft Day</u>&nbsp\;at all play sessions</p>\n\n<p style="text-align:center">This event will be free with the purchase of your play session. We will be doing crafts and sending them to &ldquo\;The Rusty Nugget Antiques&rdquo\; to say Thank You for donating the funds to purchase the soft play to Com&rsquo\;on Play Kids!</p>\n
LOCATION:225 Shops BLVD Suite 107\, Willow Park TX 76087
UID:e.2477.20134
SEQUENCE:3
DTSTAMP:20260423T115431Z
URL:http://business.parkercountychamber.com/events/details/craft-day-20134
END:VEVENT

END:VCALENDAR
