BEGIN:VCALENDAR
VERSION:2.0
PRODID:-//ChamberMaster//Event Calendar 2.0//EN
METHOD:PUBLISH
X-PUBLISHED-TTL:P3D
REFRESH-INTERVAL:P3D
CALSCALE:GREGORIAN
BEGIN:VEVENT
DTSTART:20211113T150000Z
DTEND:20211113T170000Z
X-MICROSOFT-CDO-ALLDAYEVENT:FALSE
SUMMARY:Coyote Chase Race 5K and 1-mile run
DESCRIPTION:The 27th annual Coyote Chase Race 5K and 1-mile run will take this November\, at Weatherford College after taking a year off in 2020 due to the COVID-19 pandemic. Both races begin at 9:00 a.m.\n\nPre-registered runners will receive long sleeve\, microfiber T-shirts.\n\nOnline registration is available at www.wc.edu/chaserace. RunTime Racing Services will handle the event's timing and course layout\, and those who opt in will be able to use RunTime's chip-timing technology.
X-ALT-DESC;FMTTYPE=text/html:<p><span style="color:#000000"><span style="font-size:12px"><span style="font-family:arial\,helvetica\,sans-serif">The 27th annual Coyote Chase Race 5K and 1-mile run will take this November\, at Weatherford College after taking a year off in 2020 due to the COVID-19 pandemic. Both races begin at 9:00 a.m.</span></span></span></p>\n\n<p><span style="color:#000000"><span style="font-size:12px"><span style="font-family:arial\,helvetica\,sans-serif">Pre-registered runners will receive long sleeve\, microfiber T-shirts.</span></span></span></p>\n\n<p><span style="font-size:12px"><span style="font-family:arial\,helvetica\,sans-serif"><span style="color:#000000">Online registration is available at&nbsp\;</span><a href="http://www.wc.edu/chaserace" style="box-sizing: border-box\; color: rgb(133\, 104\, 41)\; text-decoration-line: none\; line-height: inherit\; background: transparent\;" target="_blank"><span style="color:#0000FF">www.wc.edu/chaserace</span></a><span style="color:#000000">. RunTime Racing Services will handle the event&rsquo\;s timing and course layout\, and those who opt in will be able to use RunTime&rsquo\;s chip-timing technology.</span></span></span><br />\n&nbsp\;</p>\n
LOCATION:Weatherford College
UID:e.2477.15617
SEQUENCE:3
DTSTAMP:20260425T223557Z
URL:http://business.parkercountychamber.com/events/details/coyote-chase-race-5k-and-1-mile-run-15617
END:VEVENT

END:VCALENDAR
