BEGIN:VCALENDAR
VERSION:2.0
PRODID:-//ChamberMaster//Event Calendar 2.0//EN
METHOD:PUBLISH
X-PUBLISHED-TTL:P3D
REFRESH-INTERVAL:P3D
CALSCALE:GREGORIAN
BEGIN:VEVENT
DTSTART:20250707T133000Z
DTEND:20250710T210000Z
X-MICROSOFT-CDO-ALLDAYEVENT:FALSE
SUMMARY:Coyote Basketball Camp
DESCRIPTION:This co-ed camp is an excellent opportunity to develop in all aspects of the game. We will focus on the fundamentals of the game such as dribbling\, passing\, shooting and catching. Each player will have the opportunity to showcase their skill during games each day.\n\n\n\nThis camp will also focus on how to play the game of basketball with instructional drills and lectures on how to become a better basketball player. Each camper will recieve individual instruction with Coyote coaches and players. Coyote Basketball Camp is held in the Betty Jo Graber Athletic Center on the Weatherford College Campus.\n\n\n\nInfo and registration can be found:\n\nhttps://wc.edu/about/for-the-public/coyotebasketballcamp.php\n\nAll questions regarding camp can be sent to:\n\nCoach Brittnie Haley - bhaley@wc.edu\n\nCoach Jaylin Airington - jairington@wc.edu
X-ALT-DESC;FMTTYPE=text/html:<p>This co-ed camp is an excellent opportunity to develop in all aspects of the game. We will focus on the fundamentals of the game such as dribbling\, passing\, shooting and catching. Each player will have the opportunity to showcase their skill during games each day.<br />\n<br />\nThis camp will also focus on how to play the game of basketball with instructional drills and lectures on how to become a better basketball player. Each camper will recieve individual instruction with Coyote coaches and players. Coyote Basketball Camp is held in the Betty Jo Graber Athletic Center on the Weatherford College Campus.<br />\n<br />\nInfo and registration can be found:<br />\n<a href="https://wc.edu/about/for-the-public/coyotebasketballcamp.php" rel="noopener" target="_blank">https://wc.edu/about/for-the-public/coyotebasketballcamp.php</a></p>\n\n<p>All questions regarding camp can be sent to:<br />\nCoach Brittnie Haley - bhaley@wc.edu<br />\nCoach Jaylin Airington - jairington@wc.edu</p>\n
LOCATION:Weatherford College Betty Jo Graber Athletic Center 225 College Park Dr.
UID:e.2477.20128
SEQUENCE:3
DTSTAMP:20260423T042730Z
URL:http://business.parkercountychamber.com/events/details/coyote-basketball-camp-07-07-2025-20128
END:VEVENT

END:VCALENDAR
