BEGIN:VCALENDAR
VERSION:2.0
PRODID:-//ChamberMaster//Event Calendar 2.0//EN
METHOD:PUBLISH
X-PUBLISHED-TTL:P3D
REFRESH-INTERVAL:P3D
CALSCALE:GREGORIAN
BEGIN:VEVENT
DTSTART:20240924T170000Z
DTEND:20240924T180000Z
X-MICROSOFT-CDO-ALLDAYEVENT:FALSE
SUMMARY:Constitution Day: "Civilian - Military Relations"
DESCRIPTION:Topic: "Civilian - Military Relations"
X-ALT-DESC;FMTTYPE=text/html:<span style="color:rgb(49\, 49\, 49)\; font-family:arial\,helvetica\,verdana\,tahoma\,sans-serif\; font-size:14px">Topic: &quot\;Civilian - Military Relations&quot\;</span>
LOCATION:Weatherford College Academic Building\, Room 104 225 College Park Dr.
UID:e.2477.19763
SEQUENCE:3
DTSTAMP:20260423T224433Z
URL:http://business.parkercountychamber.com/events/details/constitution-day-civilian-military-relations-19763
END:VEVENT

END:VCALENDAR
