BEGIN:VCALENDAR
VERSION:2.0
PRODID:-//ChamberMaster//Event Calendar 2.0//EN
METHOD:PUBLISH
X-PUBLISHED-TTL:P3D
REFRESH-INTERVAL:P3D
CALSCALE:GREGORIAN
BEGIN:VEVENT
DTSTART:20250411T203000Z
DTEND:20250411T213000Z
X-MICROSOFT-CDO-ALLDAYEVENT:FALSE
SUMMARY:COMMUNITY EASTER HUNT
DESCRIPTION:Join us for a hip hoppity good time and enjoy food\, refreshments\, Easter Hunt as well as LIVE entertainment.  ALL ages welcome!  Oh\,...and the Easter Bunny will be here!
X-ALT-DESC;FMTTYPE=text/html:Join us for a hip hoppity good time and enjoy food\, refreshments\, Easter Hunt as well as LIVE entertainment.&nbsp\; ALL ages welcome!&nbsp\; Oh\,...and the Easter Bunny will be here!
LOCATION:ClearFork Assisted LIving and Memory Care 178 Crown Pointe Willow Park\, TX 76087
UID:e.2477.20347
SEQUENCE:3
DTSTAMP:20260423T090435Z
URL:http://business.parkercountychamber.com/events/details/community-easter-hunt-20347
END:VEVENT

END:VCALENDAR
