BEGIN:VCALENDAR
VERSION:2.0
PRODID:-//ChamberMaster//Event Calendar 2.0//EN
METHOD:PUBLISH
X-PUBLISHED-TTL:P3D
REFRESH-INTERVAL:P3D
CALSCALE:GREGORIAN
BEGIN:VEVENT
DTSTART:20240730T223000Z
DTEND:20240731T003000Z
X-MICROSOFT-CDO-ALLDAYEVENT:FALSE
SUMMARY:Communication Strategies Across The Stages Of Demenita
DESCRIPTION:
X-ALT-DESC;FMTTYPE=text/html:
LOCATION:Benbrook Public Library
UID:e.2477.19723
SEQUENCE:3
DTSTAMP:20260424T024938Z
URL:http://business.parkercountychamber.com/events/details/communication-strategies-across-the-stages-of-demenita-19723
END:VEVENT

END:VCALENDAR
