BEGIN:VCALENDAR
VERSION:2.0
PRODID:-//ChamberMaster//Event Calendar 2.0//EN
METHOD:PUBLISH
X-PUBLISHED-TTL:P3D
REFRESH-INTERVAL:P3D
CALSCALE:GREGORIAN
BEGIN:VEVENT
DTSTART:20211203T230000Z
DTEND:20211204T030000Z
X-MICROSOFT-CDO-ALLDAYEVENT:FALSE
SUMMARY:COHOHO CHRISTMAS CORRIDOR - MOVIE IN THE PARK
DESCRIPTION:Join Mayor Marc Povero and the City of Hudson Oaks on Friday\, December 3rd to light up Gene Voyles Park and kick off the Holiday Season!\n\n\n\n \n\n\n\nBring your family for the official tree lighting ceremony and special edition light show at 6 p.m. Then stick around for a movie in the park (Elf) brought to you by Film Alley! (Coolers welcome\, no glass please)\n\n\n\n \n\n\n\nEnjoy dinner from Buff's BBQ and Miguel's Place starting at 5pm\, concessions from Film Alley\, photos with the family by HBS Realty and free hot chocolate from FBC Weatherford.
X-ALT-DESC;FMTTYPE=text/html:<div>\n<div>Join Mayor Marc Povero and the City of Hudson Oaks on Friday\, December 3rd to light up Gene Voyles Park and kick off the Holiday Season!</div>\n</div>\n\n<div>\n<div>&nbsp\;</div>\n</div>\n\n<div>\n<div>Bring your family for the official tree lighting ceremony and special edition light show at 6 p.m. Then stick around for a movie in the park (Elf) brought to you by Film Alley! (Coolers welcome\, no glass please)</div>\n</div>\n\n<div>\n<div>&nbsp\;</div>\n</div>\n\n<div>\n<div>Enjoy dinner from Buff&#39\;s BBQ and Miguel&#39\;s Place starting at 5pm\, concessions from Film Alley\, photos with the family by HBS Realty and free hot chocolate from FBC Weatherford.</div>\n</div>\n
LOCATION:
UID:e.2477.15759
SEQUENCE:3
DTSTAMP:20260425T211936Z
URL:http://business.parkercountychamber.com/events/details/cohoho-christmas-corridor-movie-in-the-park-15759
END:VEVENT

END:VCALENDAR
