BEGIN:VCALENDAR
VERSION:2.0
PRODID:-//ChamberMaster//Event Calendar 2.0//EN
METHOD:PUBLISH
X-PUBLISHED-TTL:P3D
REFRESH-INTERVAL:P3D
CALSCALE:GREGORIAN
BEGIN:VEVENT
DTSTART:20211204T000000Z
DTEND:20220103T030000Z
X-MICROSOFT-CDO-ALLDAYEVENT:FALSE
SUMMARY:COHOHO CHRISTMAS CORRIDOR - Holiday Light Display & Special Events
DESCRIPTION:CoHoHo Christmas Corridor is a free light display at Gene Voyles Park in Hudson Oaks\, Texas brought to you by Home Zone\, H-E-B and Nextlink.\n\n\n\nBring the family and enjoy a different themed light show each week with over 60\,000 lights starting at 6pm every night from December 3rd to New Years. You will not want to miss the weekly shows! *See the calendar for weekly themes and special events.\n\n\n12/10 - 12/11\n\nCarriage Rides & Food Trucks 5-8PM (10th-Miguel's Place\, Buffs BBQ\, 11th-Chula's Kitchen & Snack Shack). Stage Performances 6-8PM (10th-WHS Wind Symphony\, Blue Bells & Mary Martin Christmas Choir\, 11th-OPEN).\n\n\n\n12/17 - 12/18\n\nCarriage Rides & Food Trucks 5-8PM. (17th-Chula's Kitchen & Snack Shack\, 18th-Miguel's Place & Snack Shack). Stage Performances 6-8PM (OPEN).\n\n\n\nSCAVENGER HUNT FUN is brought to you by H-E-B and will be available for you to complete and turn into COHO for prizes!\n\n\n\nJULIEBEANS will be on-site throughout the month with Hot & Cold Treats- stay connected to see those days/times.
X-ALT-DESC;FMTTYPE=text/html:<div>CoHoHo Christmas Corridor is a free light display at Gene Voyles Park in Hudson Oaks\, Texas brought to you by Home Zone\, H-E-B and Nextlink.</div>\n\n<div><br />\nBring the family and enjoy a different themed light show each week with over 60\,000 lights starting at 6pm every night from December 3rd to New Years. You will not want to miss the weekly shows! *See the calendar for weekly themes and special events.\n<div><br />\n12/10 - 12/11<br />\nCarriage Rides &amp\; Food Trucks 5-8PM (10th-Miguel&#39\;s Place\, Buffs BBQ\, 11th-Chula&#39\;s Kitchen &amp\; Snack Shack). Stage Performances 6-8PM (10th-WHS Wind Symphony\, Blue Bells &amp\; Mary Martin Christmas Choir\, 11th-OPEN).</div>\n\n<div><br />\n12/17 - 12/18<br />\nCarriage Rides &amp\; Food Trucks 5-8PM. (17th-Chula&#39\;s Kitchen &amp\; Snack Shack\, 18th-Miguel&#39\;s Place &amp\; Snack Shack). Stage Performances 6-8PM (OPEN).</div>\n\n<div><br />\nSCAVENGER HUNT FUN is brought to you by H-E-B and will be available for you to complete and turn into COHO for prizes!</div>\n\n<div><br />\nJULIEBEANS will be on-site throughout the month with Hot &amp\; Cold Treats- stay connected to see those days/times.&nbsp\;</div>\n</div>\n
LOCATION:
UID:e.2477.15760
SEQUENCE:3
DTSTAMP:20260425T195528Z
URL:http://business.parkercountychamber.com/events/details/cohoho-christmas-corridor-holiday-light-display-special-events-15760
END:VEVENT

END:VCALENDAR
