BEGIN:VCALENDAR
VERSION:2.0
PRODID:-//ChamberMaster//Event Calendar 2.0//EN
METHOD:PUBLISH
X-PUBLISHED-TTL:P3D
REFRESH-INTERVAL:P3D
CALSCALE:GREGORIAN
BEGIN:VEVENT
DTSTART:20250320T160000Z
DTEND:20250320T170000Z
X-MICROSOFT-CDO-ALLDAYEVENT:FALSE
SUMMARY:Cliburn Kids on the Road at Chandor Gardens
DESCRIPTION:Bring your kids for a FREE interactive educational concert\, as Cliburn Kids On The Road presents "WHAT MAKES A HERO?" at Chandor Gardens.\n\n \n\nChandor Gardens Foundation Inc. is honored to be collaborating with The Cliburn to offer its music education program Cliburn Kids on the Road for elementary school age children (6 to 12 years old) on Thursday\, March 20\, 2025 in the Great Room of the Chandor house at Chandor Gardens\, 711 W. Lee Ave\, Weatherford\, TX from 11:00 A.M. to Noon.\n\n \n\nIf you are looking for a fun interactive activity for your child during spring break this\, is it. Plus\, class participants and their family members are welcome to explore Chandor Gardens after the class.\n\n \n\nThe theme for this event is "What Makes A Hero?"\n\nIt's a bird! It's a plane! It's a pianist?! A musical conversation about heroes\, from caped comic book characters to heroes we meet in everyday life\; told through the lens of how Van Cliburn used the superpower of music to connect people around the world.\n\n \n\nFeatured music:\n\n \n\nBEETHOVEN LISZT Symphony No. 3 "Eroica\," S. 464/3\n\n \n\nCHOPIN Piano Concerto No. 1 in E Minor: II. Romance\n\n \n\nBENZECRY Toccata Newen\n\n \n\nCHOPIN Etude op. 10\, no. 12 "Revolutionary"\n\n \n\nTCHAIKOVSKY Piano Concerto No. 1 in B-flat Minor\, op. 23: I. Allegro non troppo\n\n \n\nHOUGH Fanfare Toccata\n\n \n\nThis event is free\, but space is limited so pre-registration is required.\n\n\n\nCLICK HERE TO RESERVE A SPOT
X-ALT-DESC;FMTTYPE=text/html:<strong>Bring your kids for a FREE interactive educational concert\, as Cliburn Kids On The Road presents &quot\;WHAT MAKES A HERO?&quot\; at Chandor Gardens.</strong><br />\n&nbsp\;<br />\nChandor Gardens Foundation Inc. is honored to be collaborating with The Cliburn to offer its music education program&nbsp\;<strong>Cliburn Kids on the Road&nbsp\;</strong>for elementary school age children (6 to 12 years old) on Thursday\,<strong> March 20\, 2025&nbsp\;</strong>in the Great Room of the Chandor house at&nbsp\;<strong>Chandor Gardens\, 711 W. Lee Ave\, Weatherford\, TX from 11:00 A.M. to Noon</strong>.<br />\n&nbsp\;<br />\nIf you are looking for a fun interactive activity for your child during spring break this\, is it. Plus\, class participants and their family members are welcome to explore Chandor Gardens after the class.<br />\n&nbsp\;<br />\nThe theme for this event is &quot\;What Makes A Hero?&quot\;<br />\nIt&rsquo\;s a bird! It&rsquo\;s a plane! It&rsquo\;s a pianist?! A musical conversation about heroes\, from caped comic book characters to heroes we meet in everyday life\; told through the lens of how Van Cliburn used the superpower of music to connect people around the world.<br />\n&nbsp\;<br />\nFeatured music:<br />\n&nbsp\;<br />\nBEETHOVEN&ndash\;LISZT Symphony No. 3 &ldquo\;Eroica\,&rdquo\; S. 464/3<br />\n&nbsp\;<br />\nCHOPIN Piano Concerto No. 1 in E Minor: II. Romance<br />\n&nbsp\;<br />\nBENZECRY Toccata Newen<br />\n&nbsp\;<br />\nCHOPIN Etude op. 10\, no. 12 &ldquo\;Revolutionary&rdquo\;<br />\n&nbsp\;<br />\nTCHAIKOVSKY Piano Concerto No. 1 in B-flat Minor\, op. 23: I. Allegro non troppo<br />\n&nbsp\;<br />\nHOUGH Fanfare Toccata<br />\n&nbsp\;<br />\n<strong><em><span style="font-size:12.0pt">This event is free\, but space is limited so pre-registration is required.</span></em></strong><br />\n<br />\n<a href="https://www.eventbrite.com/e/cliburn-kids-on-the-road-at-chandor-gardens-tickets-1252581959359?aff=oddtdtcreator" target="_blank"><strong>CLICK HERE TO RESERVE A SPOT</strong></a>
LOCATION:Chandor Gardens 711 W. Lee Ave Weatherford\, TX 76086
UID:e.2477.20311
SEQUENCE:3
DTSTAMP:20260423T103303Z
URL:http://business.parkercountychamber.com/events/details/cliburn-kids-on-the-road-at-chandor-gardens-20311
END:VEVENT

END:VCALENDAR
