BEGIN:VCALENDAR
VERSION:2.0
PRODID:-//ChamberMaster//Event Calendar 2.0//EN
METHOD:PUBLISH
X-PUBLISHED-TTL:P3D
REFRESH-INTERVAL:P3D
CALSCALE:GREGORIAN
BEGIN:VEVENT
DTSTART:20240315T160000Z
DTEND:20240315T170000Z
X-MICROSOFT-CDO-ALLDAYEVENT:FALSE
SUMMARY:Cliburn Kids Live On The Road at Chandor Gardens
DESCRIPTION:Chandor Gardens Foundation Inc is excited to be hosting Cliburn Kids on the Road for a free interactive\, educational concert March 15\, 2024 in the Great Room at Chandor Gardens\, Weatherford\, TX!\n\nCliburn Kids on the Road will be presenting "Laugh Out Loud\," a program that finds the funny in whimsical songs.\n\nThis event is free\, but space is limited so pre-registration is required.\n\n \n\nPROGRAM\n\nLAUGH OUT LOUD\n\nThey say laughter is the best medicine! It releases endorphins and strengthens our resiliency to stress. It increases oxygen intake\, making us feel more focused and energized. In a time when kids are under more academic and social pressure than ever before\, it's important to remember to just have FUN! This program introduces kids to witty pieces of classical music and shows how even serious composers let loose once in a while.\n\nFeatured works:\n\nBACH\, P.D.Q. The Short-Tempered Clavier (VI. E-Flat Major)\n\nRAMEAU La Poule\n\nHAYDN Symphony No. 94 in G Major ("Surprise")\n\nHIROMI The Tom and Jerry Show\n\nKIRCHER Gold Coin Variations\n\nPOULENC Sonata for Four Hands (I. Prelude)\n\nKABALEVSKY Comedians' Gallop\n\n\n\nCLICK HERE TO REGISTER YOUR CHILD
X-ALT-DESC;FMTTYPE=text/html:<span style="font-size:12.0pt">Chandor Gardens Foundation Inc is excited to be hosting&nbsp\;<strong>Cliburn Kids on the Road</strong>&nbsp\;for a free interactive\, educational concert March 15\, 2024 in the Great Room at Chandor Gardens\, Weatherford\, TX!</span><br />\n<span style="font-size:12.0pt">Cliburn Kids on the Road will be presenting&nbsp\;<strong>&ldquo\;Laugh Out Loud\,&rdquo\;</strong>&nbsp\;a program that finds the funny in whimsical songs.</span><br />\n<strong><em><span style="font-size:12.0pt">This event is free\, but space is limited so pre-registration is required.</span></em></strong><br />\n&nbsp\;<br />\n<strong><span style="font-size:12.0pt">PROGRAM</span></strong><br />\n<span style="font-size:12.0pt">LAUGH OUT LOUD</span><br />\n<span style="font-size:12.0pt">They say laughter is the best medicine! It releases endorphins and strengthens our resiliency to stress. It increases oxygen intake\, making us feel more focused and energized. In a time when kids are under more academic and social pressure than ever before\, it&rsquo\;s important to remember to just have FUN! This program introduces kids to witty pieces of classical music and shows how even serious composers let loose once in a while.</span><br />\n<span style="font-size:12.0pt">Featured works:</span><br />\n<span style="font-size:12.0pt">BACH\, P.D.Q.&nbsp\;<em>The Short-Tempered Clavier&nbsp\;</em>(VI. E-Flat Major)</span><br />\n<span style="font-size:12.0pt">RAMEAU&nbsp\;<em>La Poule</em></span><br />\n<span style="font-size:12.0pt">HAYDN Symphony No. 94 in G Major (&ldquo\;Surprise&rdquo\;)</span><br />\n<span style="font-size:12.0pt">HIROMI&nbsp\;<em>The Tom and Jerry Show</em></span><br />\n<span style="font-size:12.0pt">KIRCHER&nbsp\;<em>Gold Coin Variations</em></span><br />\n<span style="font-size:12.0pt">POULENC Sonata for Four Hands (I. Prelude)</span><br />\n<span style="font-size:12.0pt">KABALEVSKY&nbsp\;<em>Comedians&rsquo\; Gallop</em><br />\n<br />\n<a href="https://www.eventbrite.com/e/cliburn-kids-live-on-the-road-free-spring-break-concert-tickets-838895106847" target="_blank"><strong>CLICK HERE TO REGISTER YOUR CHILD</strong></a></span><br />\n&nbsp\;
LOCATION:711 W. Lee Ave Weatherford\, TX 76086
UID:e.2477.19229
SEQUENCE:3
DTSTAMP:20260424T071326Z
URL:http://business.parkercountychamber.com/events/details/cliburn-kids-live-on-the-road-at-chandor-gardens-19229
END:VEVENT

END:VCALENDAR
