BEGIN:VCALENDAR
VERSION:2.0
PRODID:-//ChamberMaster//Event Calendar 2.0//EN
METHOD:PUBLISH
X-PUBLISHED-TTL:P3D
REFRESH-INTERVAL:P3D
CALSCALE:GREGORIAN
BEGIN:VEVENT
DTSTART:20260320T160000Z
DTEND:20260320T170000Z
X-MICROSOFT-CDO-ALLDAYEVENT:FALSE
SUMMARY:Cliburn Kids "Keys to America" - Free Spring Break Kids Concert
DESCRIPTION:Imagine your child's eyes lighting up as they embark on a musical journey across America all without leaving their seat!\n\n \n\nJoin us for the Cliburn Kids on the Road "Keys to America" concert\, a FREE interactive experience designed to inspire and educate young minds through the magic of music.\n\n\n\nAmerica's 250th birthday is in 2026\, and every celebration needs good music! In this program of early American music\, we look back in time at the early cultural life of our nation and discover the composers who created a uniquely American sound.\n\n \n\nMark your calendar for Friday\, March 20th at 11:00 AM\, at Chandor Gardens.\n\n \n\nSpaces are limited\, so don't miss this unique opportunity to spark creativity and curiosity in your little ones (ideally 6 to 12 years old).\n\n \n\nReserve a spot today and let the adventure begin!\n\n\n\nCLICK HERE TO RESERVE A SEAT
X-ALT-DESC;FMTTYPE=text/html:Imagine your child&rsquo\;s eyes lighting up as they embark on a musical journey across America&mdash\;all without leaving their seat!<br />\n&nbsp\;<br />\nJoin us for the <strong>Cliburn Kids on the Road &quot\;Keys to America&quot\; concert\, a FREE interactive experience designed to inspire and educate young minds through the magic of music.</strong><br />\n<br />\nAmerica&rsquo\;s 250th birthday is in 2026\, and every celebration needs good music! In this program of early American music\, we look back in time at the early cultural life of our nation and discover the composers who created a uniquely American sound.<br />\n&nbsp\;<br />\nMark your calendar for <strong>Friday\, March 20th at 11:00 AM\, at Chandor Gardens.</strong><br />\n&nbsp\;<br />\nSpaces are limited\, so don&rsquo\;t miss this unique opportunity to spark creativity and curiosity in your little ones (ideally 6 to 12 years old).<br />\n&nbsp\;<br />\nReserve a spot today and let the adventure begin!<br />\n<br />\n<a href="https://www.eventbrite.com/e/cliburn-kids-on-the-road-keys-to-america-concert-tickets-1984221430713?aff=oddtdtcreator" target="_blank"><strong><span style="background-color:#FFFF00">CLICK HERE TO RESERVE A SEAT</span></strong></a>
LOCATION:Chandor Gardens 711 W. Lee Avenue Weatherford\, TX 76086
UID:e.2477.21876
SEQUENCE:3
DTSTAMP:20260421T032811Z
URL:http://business.parkercountychamber.com/events/details/cliburn-kids-keys-to-america-free-spring-break-kids-concert-21876
END:VEVENT

END:VCALENDAR
