BEGIN:VCALENDAR
VERSION:2.0
PRODID:-//ChamberMaster//Event Calendar 2.0//EN
METHOD:PUBLISH
X-PUBLISHED-TTL:P3D
REFRESH-INTERVAL:P3D
CALSCALE:GREGORIAN
BEGIN:VEVENT
DTSTART:20250408T140000Z
DTEND:20250408T150000Z
X-MICROSOFT-CDO-ALLDAYEVENT:FALSE
SUMMARY:CLEARFORK COFFEE CONNECTIONS
DESCRIPTION:Now at ClearFork Assisted Living and Memory Care MONTHLY!\n\n\n\nCoffee Connections' goal is to develop a cohesive network of professionals and offer an avenue to share ideas and promote businesses with integrity and compassion.  Join us as we network with fellow professionals over breakfast and a good cup of coffee!
X-ALT-DESC;FMTTYPE=text/html:Now at ClearFork Assisted Living and Memory Care MONTHLY!<br />\n<br />\nCoffee Connections&#39\; goal is to develop a cohesive network of professionals and offer an avenue to share ideas and promote businesses with integrity and compassion.&nbsp\; Join us as we network with fellow professionals over breakfast and a good cup of coffee!
LOCATION:ClearFork Assisted Living and Memory Care 178 Crown Pointe Willow Park\, TX 76087
UID:e.2477.20348
SEQUENCE:3
DTSTAMP:20260423T102439Z
URL:http://business.parkercountychamber.com/events/details/clearfork-coffee-connections-20348
END:VEVENT

END:VCALENDAR
