BEGIN:VCALENDAR
VERSION:2.0
PRODID:-//ChamberMaster//Event Calendar 2.0//EN
METHOD:PUBLISH
X-PUBLISHED-TTL:P3D
REFRESH-INTERVAL:P3D
CALSCALE:GREGORIAN
BEGIN:VEVENT
DTSTART:20250708T140000Z
DTEND:20250708T150000Z
X-MICROSOFT-CDO-ALLDAYEVENT:FALSE
SUMMARY:CLEARFORK COFFEE CONNECTIONS
DESCRIPTION:Come join US!  Open to ALL professionals.  Fastest growing networking group in Parker County...
X-ALT-DESC;FMTTYPE=text/html:Come join US!&nbsp\; Open to ALL professionals.&nbsp\; Fastest growing networking group in Parker County...
LOCATION:178 Crown Pointe Willow Park\, Texas 76087
UID:e.2477.20597
SEQUENCE:3
DTSTAMP:20260423T042541Z
URL:http://business.parkercountychamber.com/events/details/clearfork-coffee-connections-07-08-2025-20597
END:VEVENT

END:VCALENDAR
