BEGIN:VCALENDAR
VERSION:2.0
PRODID:-//ChamberMaster//Event Calendar 2.0//EN
METHOD:PUBLISH
X-PUBLISHED-TTL:P3D
REFRESH-INTERVAL:P3D
CALSCALE:GREGORIAN
BEGIN:VEVENT
DTSTART:20250610T140000Z
DTEND:20250610T150000Z
X-MICROSOFT-CDO-ALLDAYEVENT:FALSE
SUMMARY:CLEARFORK COFFEE CONNECTIONS
DESCRIPTION:FASTEST growing networking group in Parker County!  Open to ALL professionals....
X-ALT-DESC;FMTTYPE=text/html:FASTEST growing networking group in Parker County!&nbsp\; Open to ALL professionals....
LOCATION:ClearFork Assisted Living and Memory Care 178 Crown Pointe Willow Park\, Texas 76087
UID:e.2477.20550
SEQUENCE:3
DTSTAMP:20260423T055041Z
URL:http://business.parkercountychamber.com/events/details/clearfork-coffee-connections-06-10-2025-20550
END:VEVENT

END:VCALENDAR
