BEGIN:VCALENDAR
VERSION:2.0
PRODID:-//ChamberMaster//Event Calendar 2.0//EN
METHOD:PUBLISH
X-PUBLISHED-TTL:P3D
REFRESH-INTERVAL:P3D
CALSCALE:GREGORIAN
BEGIN:VEVENT
DTSTART:20250727T190000Z
DTEND:20250727T210000Z
X-MICROSOFT-CDO-ALLDAYEVENT:FALSE
SUMMARY:CINDERELLA
DESCRIPTION:Rodgers & Hammerstein's\n\nCINDERELLA\n\nMusic by RICHARD RODGERS\n\nBook and Lyrics by OSCAR HAMMERSTEIN II\n\nAdapted for the Stage by Tom Briggs\n\nFrom the Teleplay by Robert L. Freedman\n\nCINDERELLA is presented by arrangement with Concord Theatricals on behalf of The Rodgers & Hammerstein Organization.\n\nwww.concordtheatricals.com
X-ALT-DESC;FMTTYPE=text/html:<div style="text-align:center"><strong>Rodgers &amp\; Hammerstein&#39\;s</strong></div>\n\n<div style="text-align:center"><strong>CINDERELLA</strong></div>\n\n<p>Music by RICHARD RODGERS</p>\n\n<p>Book and Lyrics by OSCAR HAMMERSTEIN II</p>\n\n<p>Adapted for the Stage by Tom Briggs</p>\n\n<p>From the Teleplay by Robert L. Freedman</p>\n\n<p>CINDERELLA is presented by arrangement with Concord Theatricals on behalf of The Rodgers &amp\; Hammerstein Organization.<br />\n<a href="https://www.concordtheatricals.com">www.concordtheatricals.com</a></p>\n
LOCATION:Weatherford College Alkek Fine Arts Center 225 College Park Dr. Weatherford\, TX 76086
UID:e.2477.20553
SEQUENCE:3
DTSTAMP:20260423T042541Z
URL:http://business.parkercountychamber.com/events/details/cinderella-07-27-2025-20553
END:VEVENT

END:VCALENDAR
