BEGIN:VCALENDAR
VERSION:2.0
PRODID:-//ChamberMaster//Event Calendar 2.0//EN
METHOD:PUBLISH
X-PUBLISHED-TTL:P3D
REFRESH-INTERVAL:P3D
CALSCALE:GREGORIAN
BEGIN:VEVENT
DTSTART:20210919T000000Z
DTEND:20210919T020000Z
X-MICROSOFT-CDO-ALLDAYEVENT:FALSE
SUMMARY:Christopher McGuire "Bach\, Brazil & The Beatles"
DESCRIPTION:Chandor Gardens Foundation Inc. is pleased to present an intimate evening with classical guitarist Christopher McGuire performing Bach\, Brazil\, and The Beatles\, in the courtyard of the beautiful Chandor Gardens\, Weatherford\, Texas. This is going to be a captivating musical experience that conveys a range of emotions\, and stirs the soul.\n\n \n\nAmerican guitarist Christopher McGuire commands the many expressive qualities of the guitar with what one critic called "unselfconscious intensity." His engaging performance style invites people of all ages to feel they are taking part\, not just taking a seat. Audiences and critics on five continents fulfill the prediction by Andr s Segovia that " he will be appreciated and applauded everywhere." In his 1981 letter of recommendation\, Segovia also said he is " an artist\, sensitive\, with perfect technique." \n\n \n\nHe has studied with or performed in master classes for several of the world's foremost guitarists including\; Andr s Segovia\, Oscar Ghiglia\, Pepe Romero\, Robert Guthrie and Jos  Tom s.\n\n \n\nMcGuire has performed hundreds of solo concerts in the United States\, Mexico\, Japan\, Venezuela\, Germany\, Spain and the Canary Islands. He has played his guitar for presidents of the United States of America and Mexico\, three former governors of Texas and members of the Spanish Royal Family. He has performed more than 1500 informal performances in schools and other community venues in cities throughout North America\, Spain\, Venezuela and Japan. \n\n \n\nHis direct influences are as varied as they come\, ranging from private lessons with Maestro Segovia to jam sessions with Stevie Ray Vaughn. He has performed with some of the great musicians of our time\, including Charlie Byrd\, Carlos Barbosa-Lima\, Bucky Pizzarelli\, Howard Alden\, Roland Dyens\, Carlos Bonell\, Karin Schaupp\, Robert Guthrie\, Van Cliburn Gold Medalist Jos  Feghali and violinist Swang Lin.  In October of 2005 Chris shared the stage with the legendary Van Cliburn in a tribute concert for Fort Worth philanthropist Roz Rosenthal.\n\n \n\nHe is currently Artistic Director of the Fort Worth Classic Guitar Society (FWCGS) and the Allegro Guitar Society of Dallas (AGSD).\n\n \n\nDoors open at 6:30 P.M.\n\n \n\nWater and a light snack concession will be available at this event\n\n \n\nTickets $30\n\n \n\nPurchase tickets online at:\n\nhttps://www.eventbrite.com/e/christopher-mcguire-bach-brazil-the-beatles-tickets-163864708755
X-ALT-DESC;FMTTYPE=text/html:<span style="font-size:12.0pt">Chandor Gardens Foundation Inc. is pleased to present an intimate evening with classical guitarist Christopher McGuire performing <strong>Bach\, Brazil\, and The Beatles</strong>\, in the courtyard of the beautiful Chandor Gardens\, Weatherford\, Texas. This is going to be a captivating musical experience that conveys a range of emotions\, and stirs the soul.</span><br />\n&nbsp\;<br />\n<span style="font-size:12.0pt">American guitarist&nbsp\;Christopher McGuire&nbsp\;</span>commands the many expressive qualities of the guitar with what one critic called&nbsp\;<strong><em>&quot\;unselfconscious intensity.&quot\;</em></strong>&nbsp\;His engaging performance style invites people of all ages to feel they are taking part\, not just taking a seat. Audiences and critics on five continents fulfill the prediction by Andr&eacute\;s Segovia&nbsp\;that&nbsp\;<strong><em>&quot\;&hellip\;he will be appreciated and applauded everywhere.&quot\;</em></strong>&nbsp\;In his 1981 letter of recommendation\, Segovia also said he is&nbsp\;<strong><em>&ldquo\;&hellip\;an artist\, sensitive\, with perfect technique.&rdquo\;</em></strong>&nbsp\;<br />\n&nbsp\;<br />\n<span style="font-size:12.0pt">He has studied with or performed in master classes for several of the world&rsquo\;s foremost guitarists including\; Andr&eacute\;s Segovia\, Oscar Ghiglia\, Pepe Romero\, Robert Guthrie and Jos&eacute\; Tom&aacute\;s</span>.<br />\n&nbsp\;<br />\n<span style="font-size:12.0pt">McGuire has performed hundreds of solo concerts in the United States\, Mexico\, Japan\, Venezuela\, Germany\, Spain and the Canary Islands. He has played his guitar for presidents of the United States of America and Mexico\, three former governors of Texas and members of the Spanish Royal Family. He has performed more than 1500 informal performances in schools and other community venues in cities throughout North America\, Spain\, Venezuela and Japan.&nbsp\;</span><br />\n&nbsp\;<br />\n<span style="font-size:12.0pt">His direct influences are as varied as they come\, ranging from private lessons with Maestro Segovia to jam sessions with&nbsp\;Stevie Ray Vaughn<strong>.</strong></span>&nbsp\;He has performed with some of the great musicians of our time\, including Charlie Byrd\, Carlos Barbosa-Lima\, Bucky Pizzarelli\, Howard Alden\, Roland Dyens\, Carlos Bonell\, Karin Schaupp\, Robert Guthrie\, Van Cliburn Gold Medalist Jos&eacute\; Feghali and violinist Swang Lin. &nbsp\;In October of 2005 Chris shared the stage with the legendary Van Cliburn in a tribute concert for Fort Worth philanthropist Roz Rosenthal.<br />\n&nbsp\;<br />\n<span style="font-size:12.0pt">He is currently Artistic Director of the Fort Worth Classic Guitar Society (FWCGS) and the Allegro Guitar Society of Dallas (AGSD).</span><br />\n&nbsp\;<br />\n<strong>Doors open at 6:30 P.M.</strong><br />\n&nbsp\;<br />\nWater and a light snack concession will be available at this event<br />\n&nbsp\;<br />\n<strong>Tickets $30</strong><br />\n&nbsp\;<br />\nPurchase tickets online at:<br />\nhttps://www.eventbrite.com/e/christopher-mcguire-bach-brazil-the-beatles-tickets-163864708755
LOCATION:Chandor Gardens 711 West Lee Ave Weatherford\, TX 76086
UID:e.2477.15522
SEQUENCE:3
DTSTAMP:20260426T012039Z
URL:http://business.parkercountychamber.com/events/details/christopher-mcguire-bach-brazil-the-beatles-15522
END:VEVENT

END:VCALENDAR
