BEGIN:VCALENDAR
VERSION:2.0
PRODID:-//ChamberMaster//Event Calendar 2.0//EN
METHOD:PUBLISH
X-PUBLISHED-TTL:P3D
REFRESH-INTERVAL:P3D
CALSCALE:GREGORIAN
BEGIN:VEVENT
DTSTART:20241214T160000Z
DTEND:20241214T203000Z
X-MICROSOFT-CDO-ALLDAYEVENT:FALSE
SUMMARY:Christmas Vintage Car & RV Show
DESCRIPTION:Join us for a Christmas Vintage Car & RV Show - all proceeds to benefit Cook Childrens - at the brand new Glamper Camper Toy Storage! There will be food & merchandise vendors. Gates open at 10am with judging from 12-2pm & awards at 2:30pm. Awards to Best Car\, Truck\, Motorcycle & Camper as well as $500 Cash Best in Show.
X-ALT-DESC;FMTTYPE=text/html:Join us for a Christmas Vintage Car &amp\; RV Show - all proceeds to benefit Cook Childrens - at the brand new Glamper Camper Toy Storage! There will be food &amp\; merchandise vendors. Gates open at 10am with judging from 12-2pm &amp\; awards at 2:30pm. Awards to Best Car\, Truck\, Motorcycle &amp\; Camper as well as $500 Cash Best in Show.&nbsp\;
LOCATION:Glamper Camper Toy Storage 4450 E I20 Service Rd S Willow Park\, TX 76087
UID:e.2477.20013
SEQUENCE:3
DTSTAMP:20260423T185326Z
URL:http://business.parkercountychamber.com/events/details/christmas-vintage-car-rv-show-20013
END:VEVENT

END:VCALENDAR
