BEGIN:VCALENDAR
VERSION:2.0
PRODID:-//ChamberMaster//Event Calendar 2.0//EN
METHOD:PUBLISH
X-PUBLISHED-TTL:P3D
REFRESH-INTERVAL:P3D
CALSCALE:GREGORIAN
BEGIN:VEVENT
DTSTART:20211204T170000Z
DTEND:20211205T020000Z
X-MICROSOFT-CDO-ALLDAYEVENT:FALSE
SUMMARY:CHRISTMAS TYME IN ALEDO - ARTS & CRAFTS FAIR
DESCRIPTION:The 44th Annual Christmas Tyme in Aledo "Arts & Crafts Fair" is located in the gymnasium at Church at the Crossing (on the corner of Elm & Oak Sts - entrance on Oak St) from 11 a.m. - 8 p.m. With several different vendors selling a variety of gifts from which you're sure to find that unique special something for someone on your gift list or yourself! Admission is free. Concessions for sale.
X-ALT-DESC;FMTTYPE=text/html:<span style="background-color:rgb(255\, 255\, 255)\; color:rgb(255\, 0\, 0)\; font-family:sans-serif\,arial\,verdana\,trebuchet ms\; font-size:13px"><span style="font-family:comic sans ms">The&nbsp\;<em>44th Annual</em>&nbsp\;<strong>Christmas Tyme in Aledo</strong> &quot\;</span></span><span style="background-color:rgb(255\, 255\, 255)\; color:rgb(0\, 100\, 0)\; font-family:sans-serif\,arial\,verdana\,trebuchet ms\; font-size:13px"><span style="font-family:comic sans ms"><strong>Arts &amp\; Crafts Fair</strong></span></span><span style="background-color:rgb(255\, 255\, 255)\; color:rgb(255\, 0\, 0)\; font-family:sans-serif\,arial\,verdana\,trebuchet ms\; font-size:13px"><span style="font-family:comic sans ms">&quot\; is located in the&nbsp\;<strong>gymnasium at Church at the Crossing&nbsp\;</strong>(on the corner of Elm &amp\; Oak Sts - entrance on Oak St) from&nbsp\;</span></span><span style="background-color:rgb(255\, 255\, 255)\; color:rgb(0\, 100\, 0)\; font-family:sans-serif\,arial\,verdana\,trebuchet ms\; font-size:13px"><span style="font-family:comic sans ms"><strong>11 a.m. - 8 p.m.</strong></span></span><span style="background-color:rgb(255\, 255\, 255)\; color:rgb(255\, 0\, 0)\; font-family:sans-serif\,arial\,verdana\,trebuchet ms\; font-size:13px"><span style="font-family:comic sans ms"><strong>&nbsp\;</strong>With several different vendors selling a variety of gifts from which you&#39\;re sure to find that unique special something for someone on your gift list or yourself! Admission is free. Concessions for sale.</span></span>
LOCATION:Church at the Crossing Oak Street Aledo Texas 76008
UID:e.2477.14857
SEQUENCE:3
DTSTAMP:20260425T223701Z
URL:http://business.parkercountychamber.com/events/details/christmas-tyme-in-aledo-arts-crafts-fair-12-04-2021-14857
END:VEVENT

END:VCALENDAR
