BEGIN:VCALENDAR
VERSION:2.0
PRODID:-//ChamberMaster//Event Calendar 2.0//EN
METHOD:PUBLISH
X-PUBLISHED-TTL:P3D
REFRESH-INTERVAL:P3D
CALSCALE:GREGORIAN
BEGIN:VEVENT
DTSTART:20211214T220000Z
DTEND:20211215T020000Z
X-MICROSOFT-CDO-ALLDAYEVENT:FALSE
SUMMARY:Christmas on Main at Chicago Title
DESCRIPTION:Christmas on Main will be held at Chicago Title\, 1200 S Main St. in Weatherford on 12/14/21.  Santa will be available for you to take photos with\, along with his Elves.  Children can write and mail  a letter to Santa\, and create a craft to take home.  Cookies and milk will be given and face painting will be available too.  This is a FREE family event!  We will collect gently used blankets\, gloves\, socks\, hats\, and sleeping bags for Hearts Full of Love.  For FREE vendor space please contact Debra Gass at dgass@cttdfw.com.
X-ALT-DESC;FMTTYPE=text/html:Christmas on Main will be held at Chicago Title\, 1200 S Main St. in Weatherford on 12/14/21.&nbsp\; Santa will be available for you to take photos with\, along with his Elves.&nbsp\; Children can write and mail&nbsp\; a letter to Santa\, and create a craft to take home.&nbsp\; Cookies and milk will be given and face painting will be available too.&nbsp\; This is a FREE family event!&nbsp\; We will collect gently used blankets\, gloves\, socks\, hats\, and sleeping bags for Hearts Full of Love.&nbsp\; For FREE vendor space please contact Debra Gass at dgass@cttdfw.com.&nbsp\;&nbsp\;
LOCATION:
UID:e.2477.16467
SEQUENCE:3
DTSTAMP:20260425T211615Z
URL:http://business.parkercountychamber.com/events/details/christmas-on-main-at-chicago-title-16467
END:VEVENT

END:VCALENDAR
