BEGIN:VCALENDAR
VERSION:2.0
PRODID:-//ChamberMaster//Event Calendar 2.0//EN
METHOD:PUBLISH
X-PUBLISHED-TTL:P3D
REFRESH-INTERVAL:P3D
CALSCALE:GREGORIAN
BEGIN:VEVENT
DTSTART:20231203T000000Z
DTEND:20231202T180000Z
X-MICROSOFT-CDO-ALLDAYEVENT:FALSE
SUMMARY:Christmas at COHO
DESCRIPTION:Join us for the lighting of the COHO tree and an evening of FREE holiday fun brought to you by Jerry's BuickGMC! Enjoy activities in Santa's Workshop thanks to THR Willow Park. The 6th Ave. Homes Elves will help you snap a picture with Santa. Take a ride on the COHO Express and watch The Grinch with Jim Carrey on the big screen thanks to Film Alley. Plan on staying the evening with us...it will be a jolly good time!\n\n Santa's Workshop\n\n  Train Rides\n\n  Snow Hill Inflatable\n\n  Community Booths\n\n  Pictures with Santa\n\n Stage Performances - Mary Martin Elem. & Second Star Theatre Co. Youth Choirs @ 5:30PM.\n\n COHO Tree Lighting & Corridor Lights @ 6PM\n\n Movie: The Grinch with Jim Carry @ 7PM\n\n Food Trucks $$ - Waller Lane & Snack Shack\n\n Free Hot Chocolate from FBC Weatherford & Popcorn from Film Alley.\n\nA HUGE thank you to our Event Partner Texas Health Willow Park. Also to the Christmas Corridor partners Nextlink\, Home Zone\, H-E-B\, & Jerry's Buick GMC!\n\nChairs\, blankets and coolers are welcome. No glass please.
X-ALT-DESC;FMTTYPE=text/html:<span style="color:#050505\;"><span style="font-family:segoe ui historic\,sans-serif\;"><span style="font-size:10.5pt\;">Join us for the lighting of the COHO tree and an evening of FREE holiday fun brought to you by Jerry&#39\;s BuickGMC! Enjoy activities in Santa&#39\;s Workshop thanks to THR Willow Park. The 6th Ave. Homes Elves will help you snap a picture with Santa. Take a ride on the COHO Express and watch The Grinch with Jim Carrey on the big screen thanks to Film Alley. Plan on staying the evening with us...it will be a jolly good time!</span></span></span><br />\n<span style="color:#050505\;"><span style="font-family:segoe ui symbol\,sans-serif\;"><span style="font-size:10.5pt\;">&#10148\;</span></span></span><span style="color:#050505\;"><span style="font-family:segoe ui historic\,sans-serif\;"><span style="font-size:10.5pt\;">Santa&#39\;s Workshop</span></span></span><br />\n<span style="color:#050505\;"><span style="font-family:segoe ui symbol\,sans-serif\;"><span style="font-size:10.5pt\;">&#10148\;</span></span></span><span style="color:#050505\;"><span style="font-family:segoe ui historic\,sans-serif\;"><span style="font-size:10.5pt\;"> Train Rides</span></span></span><br />\n<span style="color:#050505\;"><span style="font-family:segoe ui symbol\,sans-serif\;"><span style="font-size:10.5pt\;">&#10148\;</span></span></span><span style="color:#050505\;"><span style="font-family:segoe ui historic\,sans-serif\;"><span style="font-size:10.5pt\;"> Snow Hill Inflatable</span></span></span><br />\n<span style="color:#050505\;"><span style="font-family:segoe ui symbol\,sans-serif\;"><span style="font-size:10.5pt\;">&#10148\;</span></span></span><span style="color:#050505\;"><span style="font-family:segoe ui historic\,sans-serif\;"><span style="font-size:10.5pt\;"> Community Booths</span></span></span><br />\n<span style="color:#050505\;"><span style="font-family:segoe ui symbol\,sans-serif\;"><span style="font-size:10.5pt\;">&#10148\;</span></span></span><span style="color:#050505\;"><span style="font-family:segoe ui historic\,sans-serif\;"><span style="font-size:10.5pt\;"> Pictures with Santa</span></span></span><br />\n<span style="color:#050505\;"><span style="font-family:segoe ui symbol\,sans-serif\;"><span style="font-size:10.5pt\;">&#10148\;</span></span></span><span style="color:#050505\;"><span style="font-family:segoe ui historic\,sans-serif\;"><span style="font-size:10.5pt\;">Stage Performances - Mary Martin Elem. &amp\; Second Star Theatre Co. Youth Choirs @ 5:30PM.</span></span></span><br />\n<span style="color:#050505\;"><span style="font-family:segoe ui symbol\,sans-serif\;"><span style="font-size:10.5pt\;">&#10148\;</span></span></span><span style="color:#050505\;"><span style="font-family:segoe ui historic\,sans-serif\;"><span style="font-size:10.5pt\;">COHO Tree Lighting &amp\; Corridor Lights @ 6PM</span></span></span><br />\n<span style="color:#050505\;"><span style="font-family:segoe ui symbol\,sans-serif\;"><span style="font-size:10.5pt\;">&#10148\;</span></span></span><span style="color:#050505\;"><span style="font-family:segoe ui historic\,sans-serif\;"><span style="font-size:10.5pt\;">Movie: The Grinch with Jim Carry @ 7PM</span></span></span><br />\n<span style="color:#050505\;"><span style="font-family:segoe ui symbol\,sans-serif\;"><span style="font-size:10.5pt\;">&#10148\;</span></span></span><span style="color:#050505\;"><span style="font-family:segoe ui historic\,sans-serif\;"><span style="font-size:10.5pt\;">Food Trucks $$ - Waller Lane &amp\; Snack Shack</span></span></span><br />\n<span style="color:#050505\;"><span style="font-family:segoe ui symbol\,sans-serif\;"><span style="font-size:10.5pt\;">&#10148\;</span></span></span><span style="color:#050505\;"><span style="font-family:segoe ui historic\,sans-serif\;"><span style="font-size:10.5pt\;">Free Hot Chocolate from FBC Weatherford &amp\; Popcorn from Film Alley.</span></span></span><br />\n<span style="color:#050505\;"><span style="font-family:segoe ui historic\,sans-serif\;"><span style="font-size:10.5pt\;">A HUGE thank you to our Event Partner Texas Health Willow Park. Also to the Christmas Corridor partners Nextlink\, Home Zone\, H-E-B\, &amp\; Jerry&#39\;s Buick GMC!</span></span></span><br />\n<span style="color:#050505\;"><span style="font-family:segoe ui historic\,sans-serif\;"><span style="font-size:10.5pt\;">Chairs\, blankets and coolers are welcome. No glass please.</span></span></span>
LOCATION:Gene Voyles Park (210 Hudson Oaks Drive) Hudson Oaks
UID:e.2477.19183
SEQUENCE:3
DTSTAMP:20260424T112043Z
URL:http://business.parkercountychamber.com/events/details/christmas-at-coho-19183
END:VEVENT

END:VCALENDAR
