BEGIN:VCALENDAR
VERSION:2.0
PRODID:-//ChamberMaster//Event Calendar 2.0//EN
METHOD:PUBLISH
X-PUBLISHED-TTL:P3D
REFRESH-INTERVAL:P3D
CALSCALE:GREGORIAN
BEGIN:VEVENT
DTSTART:20260507T000000Z
DTEND:20260507T020000Z
X-MICROSOFT-CDO-ALLDAYEVENT:FALSE
SUMMARY:Choral Kaleidoscope
DESCRIPTION:Come and enjoy the wonderful performance of the Weatherford College Concert Choir in Choral Kaleidoscope.
X-ALT-DESC;FMTTYPE=text/html:<span style="color:rgb(0\, 0\, 0)\; font-family:-apple-system\,system-ui\,segoe ui\,roboto\,helvetica\,arial\,sans-serif\,apple color emoji\,segoe ui emoji\,segoe ui symbol">Come and enjoy the wonderful performance of the Weatherford College Concert Choir in Choral Kaleidoscope.&nbsp\;</span>
LOCATION:Weatherford College Alkek Fine Arts Center 225 College Park Dr Weatherford\, TX 76086
UID:e.2477.21924
SEQUENCE:3
DTSTAMP:20260420T222542Z
URL:http://business.parkercountychamber.com/events/details/choral-kaleidoscope-21924
END:VEVENT

END:VCALENDAR
