BEGIN:VCALENDAR
VERSION:2.0
PRODID:-//ChamberMaster//Event Calendar 2.0//EN
METHOD:PUBLISH
X-PUBLISHED-TTL:P3D
REFRESH-INTERVAL:P3D
CALSCALE:GREGORIAN
BEGIN:VEVENT
DTSTART:20240415T210000Z
DTEND:20240415T230000Z
X-MICROSOFT-CDO-ALLDAYEVENT:FALSE
SUMMARY:Chill Out Day - FREE Kona Ice!
DESCRIPTION:No taxation without relaxation! Kona Ice is giving out FREE Shaved Ice from 4-6pm at the Weatherford Police Department. Stop by and grab a Kona Ice!
X-ALT-DESC;FMTTYPE=text/html:No taxation without relaxation! Kona Ice is giving out FREE Shaved Ice from 4-6pm at the Weatherford Police Department. Stop by and grab a Kona Ice!
LOCATION:Weatherford Police Department
UID:e.2477.19391
SEQUENCE:3
DTSTAMP:20260424T053919Z
URL:http://business.parkercountychamber.com/events/details/chill-out-day-free-kona-ice-19391
END:VEVENT

END:VCALENDAR
