BEGIN:VCALENDAR
VERSION:2.0
PRODID:-//ChamberMaster//Event Calendar 2.0//EN
METHOD:PUBLISH
X-PUBLISHED-TTL:P3D
REFRESH-INTERVAL:P3D
CALSCALE:GREGORIAN
BEGIN:VEVENT
DTSTART;VALUE=DATE:20210805
DTEND;VALUE=DATE:20210806
TRANSP:TRANSPARENT
X-MICROSOFT-CDO-ALLDAYEVENT:TRUE
SUMMARY:Children's Advocacy Center of Parker County OPEN HOUSE GOLDEN TICKET EVENT
DESCRIPTION:
X-ALT-DESC;FMTTYPE=text/html:
LOCATION:
UID:e.2477.14808
SEQUENCE:3
DTSTAMP:20260426T041138Z
URL:http://business.parkercountychamber.com/events/details/children-s-advocacy-center-of-parker-county-open-house-golden-ticket-event-14808
END:VEVENT

END:VCALENDAR
