BEGIN:VCALENDAR
VERSION:2.0
PRODID:-//ChamberMaster//Event Calendar 2.0//EN
METHOD:PUBLISH
X-PUBLISHED-TTL:P3D
REFRESH-INTERVAL:P3D
CALSCALE:GREGORIAN
BEGIN:VEVENT
DTSTART:20260401T050000Z
DTEND:20260429T220000Z
X-MICROSOFT-CDO-ALLDAYEVENT:FALSE
SUMMARY:Chances for Children Raffle
DESCRIPTION:Join the Children's Advocacy Center of Parker County for our Chances for Children Raffle this April in recognition of Child Abuse Prevention Month. Participants have the opportunity to win incredible prizes\, including a Louis Vuitton Pochette Eva\, a Chef's Table experience for two at Rio Brazos Grill\, a $500 gift card to The Western Legacy Co.\, and a $250 gift card to Jennz Laser Center.\n\nEvery ticket purchased supports critical services for children in Parker County\, including forensic interviews\, family advocacy\, and trauma-focused therapy provided at no cost to the families we serve.\n\nRaffle runs April 1 29\, 2026\, with winners drawn on April 30\, 2026.\n\nEnter here: https://go.rallyup.com/chances4children
X-ALT-DESC;FMTTYPE=text/html:<p><span style="font-size:12px">Join the Children&rsquo\;s Advocacy Center of Parker County for our Chances for Children Raffle this April in recognition of Child Abuse Prevention Month. Participants have the opportunity to win incredible prizes\, including a Louis Vuitton Pochette Eva\, a Chef&rsquo\;s Table experience for two at Rio Brazos Grill\, a $500 gift card to The Western Legacy Co.\, and a $250 gift card to Jennz Laser Center.</span></p>\n\n<p><span style="font-size:12px">Every ticket purchased supports critical services for children in Parker County\, including forensic interviews\, family advocacy\, and trauma-focused therapy&mdash\;provided at no cost to the families we serve.</span></p>\n\n<p><span style="font-size:12px">Raffle runs April 1&ndash\;29\, 2026\, with winners drawn on April 30\, 2026.</span></p>\n\n<p><span style="font-size:12px">Enter here: <a class="decorated-link" href="https://go.rallyup.com/chances4children" rel="noopener" target="_new">https://go.rallyup.com/chances4children</a></span></p>\n
LOCATION:Enter here: https://go.rallyup.com/chances4children
UID:e.2477.21940
SEQUENCE:3
DTSTAMP:20260421T181152Z
URL:http://business.parkercountychamber.com/events/details/chances-for-children-raffle-21940
END:VEVENT

END:VCALENDAR
