BEGIN:VCALENDAR
VERSION:2.0
PRODID:-//ChamberMaster//Event Calendar 2.0//EN
METHOD:PUBLISH
X-PUBLISHED-TTL:P3D
REFRESH-INTERVAL:P3D
CALSCALE:GREGORIAN
BEGIN:VEVENT
DTSTART:20220423T130000Z
DTEND:20220423T220000Z
X-MICROSOFT-CDO-ALLDAYEVENT:FALSE
SUMMARY:CHALK THE WALK
DESCRIPTION:In observation of Earth Day\, we invite you to join us at Gene Voyles Park on April 23\, 2022\, at your own time\, and enjoy the day with your family by creating chalk art and learning some fun facts on how to take care of planet earth!
X-ALT-DESC;FMTTYPE=text/html:<span style="background-color:rgb(250\, 250\, 250)\; color:rgb(0\, 0\, 0)\; font-family:montserrat\,system-ui\,system-ui\,-apple-system\,segoe ui\,roboto\,oxygen\,ubuntu\,cantarell\,fira sans\,droid sans\,helvetica neue\,sans-serif\; font-size:medium">In observation of Earth Day\, we invite you to join us at Gene Voyles Park on April 23\, 2022\, at your own time\, and enjoy the day with your family by creating chalk art and learning some fun facts on how to take care of planet earth!</span>
LOCATION:Gene Voyles Park 210 Hudson Oaks Dr. Hudson Oaks\, Texas
UID:e.2477.17537
SEQUENCE:3
DTSTAMP:20260425T154106Z
URL:http://business.parkercountychamber.com/events/details/chalk-the-walk-17537
END:VEVENT

END:VCALENDAR
