BEGIN:VCALENDAR
VERSION:2.0
PRODID:-//ChamberMaster//Event Calendar 2.0//EN
METHOD:PUBLISH
X-PUBLISHED-TTL:P3D
REFRESH-INTERVAL:P3D
CALSCALE:GREGORIAN
BEGIN:VEVENT
DTSTART:20220505T003000Z
DTEND:20220505T013000Z
X-MICROSOFT-CDO-ALLDAYEVENT:FALSE
SUMMARY:Chaeeun Lee piano recital
DESCRIPTION:Join us in the Alkek Fine Arts Center for a piano recital by WC student Chaeeun Lee who recently won second prize in the 2022 Charleston International Winter Music Competition. Admission is free.
X-ALT-DESC;FMTTYPE=text/html:<span style="color:rgb(0\, 0\, 0)\; font-family:calibri\,calibri_embeddedfont\,calibri_msfontservice\,sans-serif\; font-size:11pt">Join us in the Alkek Fine Arts Center for a piano recital by WC student Chaeeun Lee who recently won second prize in the 2022 Charleston International Winter Music Competition. Admission is free.</span><span style="color:rgb(0\, 0\, 0)\; font-family:calibri\,calibri_embeddedfont\,calibri_msfontservice\,sans-serif\; font-size:11pt">&nbsp\;</span>
LOCATION:Alkek Fine Arts Center Weatherford College
UID:e.2477.17766
SEQUENCE:3
DTSTAMP:20260425T143748Z
URL:http://business.parkercountychamber.com/events/details/chaeeun-lee-piano-recital-17766
END:VEVENT

END:VCALENDAR
