BEGIN:VCALENDAR
VERSION:2.0
PRODID:-//ChamberMaster//Event Calendar 2.0//EN
METHOD:PUBLISH
X-PUBLISHED-TTL:P3D
REFRESH-INTERVAL:P3D
CALSCALE:GREGORIAN
BEGIN:VEVENT
DTSTART:20211104T230000Z
DTEND:20211105T013000Z
X-MICROSOFT-CDO-ALLDAYEVENT:FALSE
SUMMARY:Center of Hope - An Evening of Hope
DESCRIPTION:Join us for an eventful evening to enjoy stories of hope intertwined with great food and surprising moments at the Covered Bridge Venue in Springtown. Table sponsorships get you a seat at this event to benefit families in Parker County. \n\nIn Christ-like service\, Center of Hope equips and empowers people to live a successful\, joy-filled life.  Contact Michelle Buchanan:  michelle@centerofhopetx.com for more information.
X-ALT-DESC;FMTTYPE=text/html:<span style="font-size:12pt"><span style="font-family:arial\,sans-serif"><span style="color:#333333"><span style="background-color:white">Join us for an eventful evening to enjoy stories of hope intertwined with great food and surprising moments at the Covered Bridge Venue in Springtown.&nbsp\;</span></span></span></span><span style="color:#333333"><span style="font-family:arial\,sans-serif"><span style="font-size:12.0pt">Table sponsorships get you a seat at this event to benefit families in Parker County.&nbsp\;<br />\nIn Christ-like service\, Center of Hope equips and empowers people to live a successful\, joy-filled life.&nbsp\; Contact Michelle Buchanan:&nbsp\; </span></span></span><span style="font-family:arial\,sans-serif"><span style="font-size:12.0pt"><a href="mailto:michelle@centerofhopetx.com">michelle@centerofhopetx.com</a></span></span><span style="color:#333333"><span style="font-family:arial\,sans-serif"><span style="font-size:12.0pt"> for more information.</span></span></span>
LOCATION:Covered Bridge Venue\, 2250 Agnes Circle\, Springtown. https://www.coveredbridgevenue.com/
UID:e.2477.15518
SEQUENCE:3
DTSTAMP:20260425T225349Z
URL:http://business.parkercountychamber.com/events/details/center-of-hope-an-evening-of-hope-15518
END:VEVENT

END:VCALENDAR
