BEGIN:VCALENDAR
VERSION:2.0
PRODID:-//ChamberMaster//Event Calendar 2.0//EN
METHOD:PUBLISH
X-PUBLISHED-TTL:P3D
REFRESH-INTERVAL:P3D
CALSCALE:GREGORIAN
BEGIN:VEVENT
DTSTART:20211204T150000Z
DTEND:20211204T170000Z
X-MICROSOFT-CDO-ALLDAYEVENT:FALSE
SUMMARY:Casa Hope for Children Invites you to: Santa's Workshop
DESCRIPTION:
X-ALT-DESC;FMTTYPE=text/html:
LOCATION:Southside Church of Christ
UID:e.2477.16473
SEQUENCE:3
DTSTAMP:20260425T211911Z
URL:http://business.parkercountychamber.com/events/details/casa-hope-for-children-invites-you-to-santa-s-workshop-16473
END:VEVENT

END:VCALENDAR
