BEGIN:VCALENDAR
VERSION:2.0
PRODID:-//ChamberMaster//Event Calendar 2.0//EN
METHOD:PUBLISH
X-PUBLISHED-TTL:P3D
REFRESH-INTERVAL:P3D
CALSCALE:GREGORIAN
BEGIN:VEVENT
DTSTART:20240502T130000Z
DTEND:20240502T183000Z
X-MICROSOFT-CDO-ALLDAYEVENT:FALSE
SUMMARY:Casa For Children Aim High For Kids Sporting Clay Fundraiser
DESCRIPTION:Sporting Clay Fundraiser benefiting Casa Hope for Children. Join us for a fun-filled day at the Defender Outdoors Clay Sports Ranch. get eady to show off your skills and supportr a great casue!\n\nBe Voice for children in foster care.
X-ALT-DESC;FMTTYPE=text/html:Sporting Clay Fundraiser benefiting Casa Hope for Children. Join us for a fun-filled day at the Defender Outdoors Clay Sports Ranch. get eady to show off your skills and supportr a great casue!<br />\nBe Voice for children in foster care.
LOCATION:Defender Outdoors 8270 Aledo Rd. Fort Worth\, TX 76126
UID:e.2477.19373
SEQUENCE:3
DTSTAMP:20260424T041059Z
URL:http://business.parkercountychamber.com/events/details/casa-for-children-aim-high-for-kids-sporting-clay-fundraiser-19373
END:VEVENT

END:VCALENDAR
