BEGIN:VCALENDAR
VERSION:2.0
PRODID:-//ChamberMaster//Event Calendar 2.0//EN
METHOD:PUBLISH
X-PUBLISHED-TTL:P3D
REFRESH-INTERVAL:P3D
CALSCALE:GREGORIAN
BEGIN:VEVENT
DTSTART:20260423T230000Z
DTEND:20260424T020000Z
X-MICROSOFT-CDO-ALLDAYEVENT:FALSE
SUMMARY:CASA Advocate Awards Banquet
DESCRIPTION:On behalf of CASA Hope for Children\, we would like to personally invite you to help us create an evening of enchantment and heartfelt gratitude as we honor our volunteer Court Appointed Special Advocates who serve 100% of children in the child welfare system in Palo Pinto and Parker counties.\n\nFor over 18 years\, CASA Hope for Children has been a beacon of hope for children in foster care\, who endure fear\, instability\, hardship\, and profound trauma. Our dedicated volunteer Court Appointed Special Advocates (CASAs) are not just volunteers\; they are your neighbors\, family members\, and members of your community\, passionately committed to walking alongside these vulnerable children and their families in their darkest moments.\n\nYour sponsorship helps honor these compassionate volunteers who selflessly give their time and love to ensure that every child in the foster care system in Parker and Palo Pinto counties has an advocate an adult who sees\, hears\, and fiercely champions their needs. Together\, we can make a meaningful difference in the lives of these children\, offering them the support and guidance they truly deserve.\n\nDon't miss the chance to support those who illuminate a child's path to a brighter future by sponsoring CASA Hope for Children's Annual Advocate Award Banquet. Enclosed with this letter are the available sponsorship levels for your review. If you are interested in sponsorship\, please complete your sponsorship commitment form by April 11\, 2025\, and email it to casa@casahopeforchildren.org.
X-ALT-DESC;FMTTYPE=text/html:On behalf of <span style="color:#0000CD">CASA Hope for Children</span>\, we would like to personally invite you to help us create an evening of enchantment and heartfelt gratitude as we honor our volunteer Court Appointed Special Advocates who serve 100% of children in the child welfare system in Palo Pinto and Parker counties.<br />\nFor over 18 years\, <span style="color:#0000CD">CASA Hope for Children</span> has been a beacon of hope for children in foster care\, who endure fear\, instability\, hardship\, and profound trauma. Our dedicated volunteer Court Appointed Special Advocates (CASAs) are not just volunteers\; they are your neighbors\, family members\, and members of your community\, passionately committed to walking alongside these vulnerable children and their families in their darkest moments.<br />\nYour sponsorship helps honor these compassionate volunteers who selflessly give their time and love to ensure that every child in the foster care system in Parker and Palo Pinto counties has an advocate&mdash\;an adult who sees\, hears\, and fiercely champions their needs. Together\, we can make a meaningful difference in the lives of these children\, offering them the support and guidance they truly deserve.<br />\nDon&#39\;t miss the chance to support those who illuminate a child&#39\;s path to a brighter future by sponsoring <span style="color:#0000CD">CASA Hope for Children&#39\;s </span>Annual Advocate Award Banquet. Enclosed with this letter are the available sponsorship levels for your review. If you are interested in sponsorship\, please complete your sponsorship commitment form by <span style="color:#FF0000">April 11\, 2025</span>\, and email it to <span style="color:#ADD8E6">casa@casahopeforchildren.org</span>.
LOCATION:Crazy Water Hotel - Ballroom 401 N Oak Ave Mineral Wells\, Texas 76067
UID:e.2477.21874
SEQUENCE:3
DTSTAMP:20260421T014042Z
URL:http://business.parkercountychamber.com/events/details/casa-advocate-awards-banquet-21874
END:VEVENT

END:VCALENDAR
